BEGIN:VCALENDAR
VERSION:2.0
PRODID:-//Mairie Salaise sur Sanne - ECPv6.15.20//NONSGML v1.0//EN
CALSCALE:GREGORIAN
METHOD:PUBLISH
X-ORIGINAL-URL:https://mairie-salaise-sur-sanne.com
X-WR-CALDESC:Évènements pour Mairie Salaise sur Sanne
REFRESH-INTERVAL;VALUE=DURATION:PT1H
X-Robots-Tag:noindex
X-PUBLISHED-TTL:PT1H
BEGIN:VTIMEZONE
TZID:UTC
BEGIN:STANDARD
TZOFFSETFROM:+0000
TZOFFSETTO:+0000
TZNAME:UTC
DTSTART:20250101T000000
END:STANDARD
END:VTIMEZONE
BEGIN:VEVENT
DTSTART;TZID=UTC:20261117T080000
DTEND;TZID=UTC:20261117T170000
DTSTAMP:20260422T221530
CREATED:20260115T105721Z
LAST-MODIFIED:20260115T105721Z
UID:10850-1794902400-1794934800@mairie-salaise-sur-sanne.com
SUMMARY:Don du sang
DESCRIPTION:  \nChaque année\, les dons de sang permettent de soigner 1 million de malades. \nChaque jour en Auvergne-Rhône-Alpes\, 1400 dons de sang sont nécessaires pour satisfaire la demande des établissements de santé. \nIl n’existe pas de produit capable de se substituer au sang. C’est parce que les produits sanguins ont une durée de vie limitée et que les besoins sont permanents que vos dons sont si précieux.\nLe don de sang est indispensable à la vie. Plus que jamais nous avons besoin de vous. \n \nVENEZ NOMBREUX ! \n\n  \nOù donner mon sang ? \nROUSSILLON \nSALLE L’ESPACE \nMARDI 17 novembre 2026 \n9H-12H30 & 15H-19H \n  \n\nSur RDV : https://dondesang.efs.sante.fr/
URL:https://mairie-salaise-sur-sanne.com/evenement/don-du-sang-5/
LOCATION:Salle l’Espace\, Rue Anatole France\, Roussillon\, 38150
ATTACH;FMTTYPE=image/png:https://mairie-salaise-sur-sanne.com//wp-content/webpc-passthru.php?src=https://mairie-salaise-sur-sanne.com/wp-content/uploads/2022/01/BanniereDonduSang.png&amp;nocache=1
END:VEVENT
BEGIN:VEVENT
DTSTART;TZID=UTC:20261119T183000
DTEND;TZID=UTC:20261119T183000
DTSTAMP:20260422T221530
CREATED:20260326T100335Z
LAST-MODIFIED:20260326T102019Z
UID:11450-1795113000-1795113000@mairie-salaise-sur-sanne.com
SUMMARY:Conseil municipal
DESCRIPTION:Séance ouverte au public
URL:https://mairie-salaise-sur-sanne.com/evenement/conseil-municipal-10/
LOCATION:Mairie de Salaise sur Sanne\, 19. rue Pierre Avit Nicolas\, Salaise sur Sanne\, 38150
ATTACH;FMTTYPE=image/png:https://mairie-salaise-sur-sanne.com//wp-content/webpc-passthru.php?src=https://mairie-salaise-sur-sanne.com/wp-content/uploads/2023/11/MairieSalaise.png&amp;nocache=1
END:VEVENT
BEGIN:VEVENT
DTSTART;TZID=UTC:20261217T183000
DTEND;TZID=UTC:20261217T183000
DTSTAMP:20260422T221530
CREATED:20260326T100418Z
LAST-MODIFIED:20260326T101950Z
UID:11452-1797532200-1797532200@mairie-salaise-sur-sanne.com
SUMMARY:Conseil municipal
DESCRIPTION:Séance ouverte au public
URL:https://mairie-salaise-sur-sanne.com/evenement/conseil-municipal-11/
LOCATION:Mairie de Salaise sur Sanne\, 19. rue Pierre Avit Nicolas\, Salaise sur Sanne\, 38150
ATTACH;FMTTYPE=image/png:https://mairie-salaise-sur-sanne.com//wp-content/webpc-passthru.php?src=https://mairie-salaise-sur-sanne.com/wp-content/uploads/2023/11/MairieSalaise.png&amp;nocache=1
END:VEVENT
END:VCALENDAR