BEGIN:VCALENDAR
VERSION:2.0
PRODID:-//Mairie Salaise sur Sanne - ECPv6.15.20//NONSGML v1.0//EN
CALSCALE:GREGORIAN
METHOD:PUBLISH
X-WR-CALNAME:Mairie Salaise sur Sanne
X-ORIGINAL-URL:https://mairie-salaise-sur-sanne.com
X-WR-CALDESC:Évènements pour Mairie Salaise sur Sanne
REFRESH-INTERVAL;VALUE=DURATION:PT1H
X-Robots-Tag:noindex
X-PUBLISHED-TTL:PT1H
BEGIN:VTIMEZONE
TZID:UTC
BEGIN:STANDARD
TZOFFSETFROM:+0000
TZOFFSETTO:+0000
TZNAME:UTC
DTSTART:20250101T000000
END:STANDARD
END:VTIMEZONE
BEGIN:VEVENT
DTSTART;VALUE=DATE:20261003
DTEND;VALUE=DATE:20261005
DTSTAMP:20260422T190137
CREATED:20260305T090300Z
LAST-MODIFIED:20260305T090300Z
UID:11141-1790985600-1791158399@mairie-salaise-sur-sanne.com
SUMMARY:EXPOSITION : EN ATTENDANT LES RENCONTRES
DESCRIPTION:Pour cette nouvelle édition de l’exposition « En attendant les ren-contres »\, le prieuré accueille des séries photographiques proposées par les membres du photo-club salaisien sur des thèmes variés. \nSamedi 3 & dimanche 4 octobre de 10h à 18h  \nEntrée gratuite
URL:https://mairie-salaise-sur-sanne.com/evenement/exposition-en-attendant-les-rencontres/
LOCATION:Prieuré de Salaise sur Sanne\, Chemin du Châtet\, Salaise sur Sanne\, 38150
ATTACH;FMTTYPE=image/jpeg:https://mairie-salaise-sur-sanne.com//wp-content/webpc-passthru.php?src=https://mairie-salaise-sur-sanne.com/wp-content/uploads/2026/03/Insta-Programme-Prieure-202621.jpg&amp;nocache=1
END:VEVENT
BEGIN:VEVENT
DTSTART;VALUE=DATE:20261010
DTEND;VALUE=DATE:20261012
DTSTAMP:20260422T190137
CREATED:20260305T090615Z
LAST-MODIFIED:20260305T090615Z
UID:11144-1791590400-1791763199@mairie-salaise-sur-sanne.com
SUMMARY:ANIMATIONS  : FESTIVAL ACCORDINA
DESCRIPTION:Deux jours pour entremêler voix chantées ou parlées\, peintures et oeuvres graphiques afin de les faire résonner au travers de propositions multiformes. Les chants a capella (de la Renaissance à nos jours) du groupe vocal viennois Accordina vibreront dans un format revisité où regard\, écoute\, imagination\, voire mise en pratique feront s’épanouir l’émotion. \nSamedi 10 & dimanche 11 octobre  \n  \nExposition de peintures et d’oeuvres graphiques\nAnnette Klein et Gérard Martin\nSamedi 14h/18h et dimanche 14h/17h. \nContes en famille\nAssociation Ad’Vienne que dira\nSamedi 16h/17h.\nRéservation conseillée : contact@accordina groupevocal.fr \nConcert théâtralisé\nAccordina\nSamedi à 18h\, répétition publique 14h30/17h. \nAtelier de chant improvisé\nAlice Biaux / ouvert à tous\nDimanche 14h30/16h. \nConcert final\nAccordina et Accord Sensible (choeur villard)\nDimanche à 17h.\nParticipation libre \n\nInfos :  06 16 12 68 29
URL:https://mairie-salaise-sur-sanne.com/evenement/animations-festival-accordina/
LOCATION:Prieuré de Salaise sur Sanne\, Chemin du Châtet\, Salaise sur Sanne\, 38150
CATEGORIES:Prieuré
ATTACH;FMTTYPE=image/jpeg:https://mairie-salaise-sur-sanne.com//wp-content/webpc-passthru.php?src=https://mairie-salaise-sur-sanne.com/wp-content/uploads/2026/03/Insta-Programme-Prieure-202622.jpg&amp;nocache=1
END:VEVENT
BEGIN:VEVENT
DTSTART;TZID=UTC:20261015T183000
DTEND;TZID=UTC:20261015T183000
DTSTAMP:20260422T190137
CREATED:20260326T100253Z
LAST-MODIFIED:20260326T102043Z
UID:11448-1792089000-1792089000@mairie-salaise-sur-sanne.com
SUMMARY:Conseil municipal
DESCRIPTION:Séance ouverte au public
URL:https://mairie-salaise-sur-sanne.com/evenement/conseil-municipal-9/
LOCATION:Mairie de Salaise sur Sanne\, 19. rue Pierre Avit Nicolas\, Salaise sur Sanne\, 38150
ATTACH;FMTTYPE=image/png:https://mairie-salaise-sur-sanne.com//wp-content/webpc-passthru.php?src=https://mairie-salaise-sur-sanne.com/wp-content/uploads/2023/11/MairieSalaise.png&amp;nocache=1
END:VEVENT
BEGIN:VEVENT
DTSTART;VALUE=DATE:20261016
DTEND;VALUE=DATE:20261026
DTSTAMP:20260422T190137
CREATED:20260305T090932Z
LAST-MODIFIED:20260305T090932Z
UID:11146-1792108800-1792972799@mairie-salaise-sur-sanne.com
SUMMARY:EXPOSITION : LUMIÈRE\, COULEURS ET EMOTIONS
DESCRIPTION:Découvrez les oeuvres variées des artistes locaux\, du figuratif à l’abstrait\, en passant par des créations intimistes et auda-cieuses. Sous l’égide de leurs professeurs Pierre Mathevon et Jean-Jacques Wambst\, les membres de l’association des peintres de Roussillon Vallée du Rhône vous invitent à explorer leur univers artistique où lumière\, couleurs et émotions se mêlent pour captiver le regard. A dé-couvrir aussi : des sculptures qui viendront enrichir cette explora-tion. \nDu 16 au 25 octobre de 13h30 à 18h30  \nVernissage vendredi 16 octobre à 18h  \nEntrée gratuite
URL:https://mairie-salaise-sur-sanne.com/evenement/exposition-lumiere-couleurs-et-emotions/
LOCATION:Prieuré de Salaise sur Sanne\, Chemin du Châtet\, Salaise sur Sanne\, 38150
CATEGORIES:Prieuré
ATTACH;FMTTYPE=image/jpeg:https://mairie-salaise-sur-sanne.com//wp-content/webpc-passthru.php?src=https://mairie-salaise-sur-sanne.com/wp-content/uploads/2026/03/Insta-Programme-Prieure-202623.jpg&amp;nocache=1
END:VEVENT
END:VCALENDAR