BEGIN:VCALENDAR
VERSION:2.0
PRODID:-//Mairie Salaise sur Sanne - ECPv6.15.20//NONSGML v1.0//EN
CALSCALE:GREGORIAN
METHOD:PUBLISH
X-ORIGINAL-URL:https://mairie-salaise-sur-sanne.com
X-WR-CALDESC:Évènements pour Mairie Salaise sur Sanne
REFRESH-INTERVAL;VALUE=DURATION:PT1H
X-Robots-Tag:noindex
X-PUBLISHED-TTL:PT1H
BEGIN:VTIMEZONE
TZID:UTC
BEGIN:STANDARD
TZOFFSETFROM:+0000
TZOFFSETTO:+0000
TZNAME:UTC
DTSTART:20250101T000000
END:STANDARD
END:VTIMEZONE
BEGIN:VEVENT
DTSTART;VALUE=DATE:20260603
DTEND;VALUE=DATE:20260704
DTSTAMP:20260422T190526
CREATED:20260327T091844Z
LAST-MODIFIED:20260420T112733Z
UID:11465-1780444800-1783123199@mairie-salaise-sur-sanne.com
SUMMARY:Expo photos : zoom sur  la biodiversité à Salaise
DESCRIPTION:Du 3 juin au 3 juillet à la médiathèque Elsa Triolet de Salaise sur Sanne \nL’Atlas de la biodiversité en photos\, en partenariat avec le photoclub salaisien.
URL:https://mairie-salaise-sur-sanne.com/evenement/exposition-photos-sur-la-biodiversite/
LOCATION:Médiathèque Elsa Triolet\, 18 Rue Pierre Avit Nicolas\, Salaise sur Sanne\, 38150\, France
CATEGORIES:ABC,Médiathèque
ATTACH;FMTTYPE=image/jpeg:https://mairie-salaise-sur-sanne.com//wp-content/webpc-passthru.php?src=https://mairie-salaise-sur-sanne.com/wp-content/uploads/2026/03/Insta-ExpoPhotosMedi.jpg&amp;nocache=1
ORGANIZER;CN="Photo Club Salaisien":MAILTO:https://photoclubsalaise.wixsite.com/photoclub
END:VEVENT
BEGIN:VEVENT
DTSTART;VALUE=DATE:20260626
DTEND;VALUE=DATE:20260702
DTSTAMP:20260422T190526
CREATED:20260305T084422Z
LAST-MODIFIED:20260305T084422Z
UID:11121-1782432000-1782950399@mairie-salaise-sur-sanne.com
SUMMARY:EXPOSITION  : UN SONGE EN CAMARGUE
DESCRIPTION:Sylviane Perez\, artiste peintre autodidacte\, est passionnée de chevaux de Camargue\, d’art féérique et d’animaux. Elle transmet ses ressentis profonds à travers la peinture en apportant un mouvement\, une émotion sur chaque toile ou sur bois. Ses oeuvres dévoilent sa sensibilité de l’instant. \nDu 26 juin au 1er juillet de 8h30 à 12h et de 14h à 19h30 \nPrieuré de Salaise sur Sanne \nEntrée gratuite
URL:https://mairie-salaise-sur-sanne.com/evenement/exposition-un-songe-en-camargue/
LOCATION:Prieuré de Salaise sur Sanne\, Chemin du Châtet\, Salaise sur Sanne\, 38150
CATEGORIES:Prieuré
ATTACH;FMTTYPE=image/jpeg:https://mairie-salaise-sur-sanne.com//wp-content/webpc-passthru.php?src=https://mairie-salaise-sur-sanne.com/wp-content/uploads/2026/03/Insta-Programme-Prieure-202611.jpg&amp;nocache=1
END:VEVENT
BEGIN:VEVENT
DTSTART;TZID=UTC:20260701T180000
DTEND;TZID=UTC:20260701T180000
DTSTAMP:20260422T190526
CREATED:20250522T071423Z
LAST-MODIFIED:20260420T072840Z
UID:9777-1782928800-1782928800@mairie-salaise-sur-sanne.com
SUMMARY:Réunion des conseils de quartier
DESCRIPTION:Réunion des conseils de quartier \nMercredi 1er juillet à 18h \nAu foyer Laurent Bouvier (arrêt de bus Le 37 à proximité)
URL:https://mairie-salaise-sur-sanne.com/evenement/reunion-des-conseils-de-quartier-3/
LOCATION:Foyer Laurent Bouvier\, Rue Du 11 Novembre 1918\, 38150 Salaise sur Sanne\, France
ATTACH;FMTTYPE=image/jpeg:https://mairie-salaise-sur-sanne.com//wp-content/webpc-passthru.php?src=https://mairie-salaise-sur-sanne.com/wp-content/uploads/2023/12/Insta_ConseilQuartier-e1708352471835.jpg&amp;nocache=1
END:VEVENT
BEGIN:VEVENT
DTSTART;TZID=UTC:20260705T150000
DTEND;TZID=UTC:20260705T170000
DTSTAMP:20260422T190526
CREATED:20260305T084629Z
LAST-MODIFIED:20260305T084629Z
UID:11123-1783263600-1783270800@mairie-salaise-sur-sanne.com
SUMMARY:CONCERT : RETOUR VERS LE CLASSIQUE
DESCRIPTION:L’orchestre symphonique « Retour vers le classique » vous propose un après-midi musical avec une première partie autour des grandes oeuvres du répertoire classique (Mozart\, Bizet\, Tchaikovsky). La deuxième partie sera consacrée à l’interprétation des plus grands thèmes du cinéma pour réveiller vos souvenirs… \nDimanche 5 juillet à 15h
URL:https://mairie-salaise-sur-sanne.com/evenement/concert-retour-vers-le-classique/
LOCATION:Prieuré de Salaise sur Sanne\, Chemin du Châtet\, Salaise sur Sanne\, 38150
CATEGORIES:Prieuré
ATTACH;FMTTYPE=image/jpeg:https://mairie-salaise-sur-sanne.com//wp-content/webpc-passthru.php?src=https://mairie-salaise-sur-sanne.com/wp-content/uploads/2026/03/Insta-Programme-Prieure-202612.jpg&amp;nocache=1
END:VEVENT
BEGIN:VEVENT
DTSTART;TZID=UTC:20260707T193000
DTEND;TZID=UTC:20260707T210000
DTSTAMP:20260422T190526
CREATED:20260305T085004Z
LAST-MODIFIED:20260306T100714Z
UID:11125-1783452600-1783458000@mairie-salaise-sur-sanne.com
SUMMARY:CONCERT : OPÉRAMOBIL’
DESCRIPTION:L’Opéramobil’ est une troupe itinérante estivale portée par la compagnie Poly R. Son ambition : faire voyager l’opéra au coeur des villages avec son piano-remorque. Durant l’été\, six artistes professionnels (chanteurs\, comédiens\, musiciens) proposent un spectacle accessible mêlant airs célèbres et trésors méconnus. \nMardi 7 juillet à 19h30  \nTarifs : plein 18€\, réduit 10€\, gratuit pour -12 ans \nRéservation : 07 65 62 06 81
URL:https://mairie-salaise-sur-sanne.com/evenement/concert-operamobil/
LOCATION:Prieuré de Salaise sur Sanne\, Chemin du Châtet\, Salaise sur Sanne\, 38150
CATEGORIES:Prieuré
ATTACH;FMTTYPE=image/jpeg:https://mairie-salaise-sur-sanne.com//wp-content/webpc-passthru.php?src=https://mairie-salaise-sur-sanne.com/wp-content/uploads/2026/03/Insta-Programme-Prieure-202613-1.jpg&amp;nocache=1
END:VEVENT
BEGIN:VEVENT
DTSTART;VALUE=DATE:20260712
DTEND;VALUE=DATE:20260713
DTSTAMP:20260422T190526
CREATED:20260205T074116Z
LAST-MODIFIED:20260305T085202Z
UID:10975-1783814400-1783900799@mairie-salaise-sur-sanne.com
SUMMARY:VISITE : RANDONNÉE ET HISTOIRE DU PRIEURÉ
DESCRIPTION:Dimanche 12 juillet dès 9h15 \n[ 14.5 km – dénivelé 145 m ] \nAutour de Salaise-sur-Sanne\, parcourez les lieux qui ont marqué l’histoire de la ville\, faites une pause pique-nique au prieuré puis poursuivez avec une visite guidée du site. \nRandonnée gratuite – Inscription à partir du 1er juillet : \nEn ligne sur tourisme.entre-bievreetrhone.fr \nConditions générales de vente sur reservation.tourisme-entre-bievreetrhone.fr \nPar téléphone au 04 74 86 72 07 ou 04 74 84 68 84 \nPar mail à l’adresse tourisme@entrebievreetrhone.fr \nSur place dans les bureaux d’information touristique
URL:https://mairie-salaise-sur-sanne.com/evenement/randonnee-salaise-sur-sanne-et-son-histoire/
LOCATION:Prieuré de Salaise sur Sanne\, Chemin du Châtet\, Salaise sur Sanne\, 38150
CATEGORIES:Prieuré
ATTACH;FMTTYPE=image/jpeg:https://mairie-salaise-sur-sanne.com//wp-content/webpc-passthru.php?src=https://mairie-salaise-sur-sanne.com/wp-content/uploads/2026/03/Insta-Programme-Prieure-202614.jpg&amp;nocache=1
END:VEVENT
BEGIN:VEVENT
DTSTART;VALUE=DATE:20260717
DTEND;VALUE=DATE:20260803
DTSTAMP:20260422T190526
CREATED:20260305T085322Z
LAST-MODIFIED:20260305T085322Z
UID:11129-1784246400-1785715199@mairie-salaise-sur-sanne.com
SUMMARY:EXPOSITION : PAYSAGES VARIÉS
DESCRIPTION:Elisabeth Roux\, artiste contemporaine\, expose ses tableaux à la maison du prieur. De salle en salle\, on voyage à la découverte de paysages variés. Lors du week-end du 25 au 26 juillet l’après-midi\, cette peintre réalisera une toile en extérieur sur le thème de la botanique. \nDu 17 juillet au 2 août de 13h à 19h  \nEntrée gratuite
URL:https://mairie-salaise-sur-sanne.com/evenement/exposition-paysages-varies/
LOCATION:Prieuré de Salaise sur Sanne\, Chemin du Châtet\, Salaise sur Sanne\, 38150
CATEGORIES:Prieuré
ATTACH;FMTTYPE=image/jpeg:https://mairie-salaise-sur-sanne.com//wp-content/webpc-passthru.php?src=https://mairie-salaise-sur-sanne.com/wp-content/uploads/2026/03/Insta-Programme-Prieure-202615.jpg&amp;nocache=1
END:VEVENT
END:VCALENDAR