BEGIN:VCALENDAR
VERSION:2.0
PRODID:-//Mairie Salaise sur Sanne - ECPv6.15.20//NONSGML v1.0//EN
CALSCALE:GREGORIAN
METHOD:PUBLISH
X-WR-CALNAME:Mairie Salaise sur Sanne
X-ORIGINAL-URL:https://mairie-salaise-sur-sanne.com
X-WR-CALDESC:Évènements pour Mairie Salaise sur Sanne
REFRESH-INTERVAL;VALUE=DURATION:PT1H
X-Robots-Tag:noindex
X-PUBLISHED-TTL:PT1H
BEGIN:VTIMEZONE
TZID:UTC
BEGIN:STANDARD
TZOFFSETFROM:+0000
TZOFFSETTO:+0000
TZNAME:UTC
DTSTART:20250101T000000
END:STANDARD
END:VTIMEZONE
BEGIN:VEVENT
DTSTART;TZID=UTC:20260202T093000
DTEND;TZID=UTC:20260202T180000
DTSTAMP:20260422T152947
CREATED:20260122T081848Z
LAST-MODIFIED:20260122T082328Z
UID:10874-1770024600-1770055200@mairie-salaise-sur-sanne.com
SUMMARY:Enquête publique unique  EM-RHÔNE :  présence du commissaire enquêteur
DESCRIPTION:AVIS D’ENQUÊTE PUBLIQUE UNIQUE \nDemande d’autorisation environnementale au titre des installations classées pour la protection de l’environnement pour la construction et l’exploitation d’une usine de production de e-méthanol bas-carbone assortie de deux demandes d’autorisation d’urbanisme (permis de construire : PC n°038 468 25 10014 et PC n°038 468 25 10013) par la société EM-RHÔNE située route départementale 4\, lieu-dit « Les Blâches Sud » et sur la plateforme chimique de Roussillon sur la commune de Salaise-sur-Sanne (38150) \nPar arrêté préfectoral n°DDPP-IC-2026-01-02 du 9 janvier 2026\, une enquête publique unique sur le projet susvisé\, d’une durée de 31 jours\, est prescrite du lundi 2 février 2026 à 9h30 au mercredi 4 mars 2026 à 17h. \nLa préfète de l’Isère est l’autorité compétente pour prendre l’arrêté préfectoral d’autorisation environnementale\, assorti de prescriptions d’exploitation\, ou l’arrêté de refus. Elle est également l’autorité compétente pour accorder la délivrance des permis de construire avec ou sans prescription\, les refuser\, ou s’octroyer un sursis pour obtenir des compléments. \nPendant la durée de l’enquête publique unique\, le dossier de demande d’autorisation environnementale assortie de deux demandes d’autorisation d’urbanisme\, comprenant\, notamment\, une étude d’impact\, un avis de l’Autorité environnementale et un avis du conseil national de la protection de la nature est consultable : \n• en mairie de Salaise-sur-Sanne (19 rue Pierre Avit Nicolas – 38150 Salaise-sur-Sanne)\, siège de l’enquête\, sur support papier aux jours et heures habituels d’ouverture au public de la mairie\, \n• sur le site internet à l’adresse suivante : www.isere.gouv.fr – https://www.isere.gouv.fr/Publications/Mises-a-disposition-Consultations-enquetes-publiques-concertations-prealables-declarations-de-projets/Enquetes-publiques \n• sur un poste informatique accessible gratuitement au sein de la mairie de Salaise-sur-Sanne. \n  \nPendant la durée de l’enquête publique unique\, les intéressés pourront formuler leurs observations et propositions : \n• sur le registre d’enquête\, mis à la disposition du public en mairie de Salaise-sur-Sanne\, \n• par courriel à l’adresse suivante : ddpp-observations-ic@isere.gouv.fr jusqu’au mercredi 4 mars 2026 à 17h\, \n• par voie postale à la mairie de Salaise-sur-Sanne \, à l’attention du commissaire enquêteur. \n  \nLes observations et propositions transmises par voie électronique seront consultables\, dans les meilleurs délais\, sur lesite internet des services de l’État en Isère : www.isere.gouv.fr \n  \nLe commissaire enquêteur\, M. Edward PIERROT\, ingénieur\, recevra les observations orales ou écrites du public en mairie de Salaise-sur-Sanne\, aux jours et heures suivants\, et dans le respect du protocole sanitaire en vigueur : \n• lundi 2 février 2026 – 9h30-12h et 14h-18h\, en mairie de Salaise-sur-Sanne\, \n• samedi 28 février 2026 – 14h-17h30\, à la médiathèque Elsa Triolet (18 rue Pierre Avit Nicolas – 38150 Salaise-sur-Sanne)\, \n• mercredi 4 mars 2026 – 9h-12h et 14h-17h\, en mairie de Salaise-sur-Sanne. \nM. Xavier RHONÉ\, directeur en ingénierie de projets retraité\, désigné en qualité de commissaire enquêteur suppléant\,remplacera le commissaire enquêteur en cas d’empêchement de celui-ci et exercera alors ces fonctions jusqu’au terme de la procédure. \nToute information sur le projet peut être demandée auprès de : \n• M. Benoit DECOURT\, directeur général affaires publiques et stratégie (tél : 06 21 12 48 36 ; Mél : bdecourt@elyse.energy)\, \n• Service installations classées de la direction départementale de la protection des populations (DDPP) – 22 avenue Doyen Louis Weil à Grenoble (tél : 04.56.59.49.99 – Mél : ddpp-ic@isere.gouv.fr). \nToute personne peut\, sur sa demande et à ses frais\, obtenir communication du dossier d’enquête publique auprès de la DDPP. \nLe rapport et les conclusions du commissaire enquêteur pourront être consultés à la DDPP – service installations classées\, à la mairie de Salaise-sur-Sanne et sur le site internet des services de l’État en Isère www.isere.gouv.fr \nhttps://www.isere.gouv.fr/Publications/Mises-a-disposition-Consultations-enquetes-publiques-concertations-prealables-declarations-de-projets/Rapports-d-enquetes pendant une durée d’un an à compter de la clôture de l’enquête.
URL:https://mairie-salaise-sur-sanne.com/evenement/enquete-publique-unique-em-rhone-presence-du-commissaire-enqueteur/
LOCATION:Mairie de Salaise sur Sanne\, 19. rue Pierre Avit Nicolas\, Salaise sur Sanne\, 38150
ATTACH;FMTTYPE=image/webp:https://mairie-salaise-sur-sanne.com/wp-content/uploads/2026/01/em-rhone-vertical-couleur-768x768-1.webp
END:VEVENT
BEGIN:VEVENT
DTSTART;VALUE=DATE:20260208
DTEND;VALUE=DATE:20260209
DTSTAMP:20260422T152947
CREATED:20251120T074732Z
LAST-MODIFIED:20260106T080624Z
UID:10613-1770508800-1770595199@mairie-salaise-sur-sanne.com
SUMMARY:Salon de la bière
DESCRIPTION:8eme salon de la bière proposé par les atelier de la Sanne de 10 à 18h \nEntrée gratuite
URL:https://mairie-salaise-sur-sanne.com/evenement/salon-de-la-biere/
LOCATION:Foyer Laurent Bouvier\, Rue Du 11 Novembre 1918\, 38150 Salaise sur Sanne\, France
ATTACH;FMTTYPE=image/jpeg:https://mairie-salaise-sur-sanne.com//wp-content/webpc-passthru.php?src=https://mairie-salaise-sur-sanne.com/wp-content/uploads/2025/11/Affiche-Salon-Biere-2026-1-scaled.jpg&amp;nocache=1
END:VEVENT
BEGIN:VEVENT
DTSTART;TZID=UTC:20260210T090000
DTEND;TZID=UTC:20260210T190000
DTSTAMP:20260422T152947
CREATED:20260115T075056Z
LAST-MODIFIED:20260115T105348Z
UID:10839-1770714000-1770750000@mairie-salaise-sur-sanne.com
SUMMARY:Don du sang
DESCRIPTION:  \nChaque année\, les dons de sang permettent de soigner 1 million de malades. \nChaque jour en Auvergne-Rhône-Alpes\, 1400 dons de sang sont nécessaires pour satisfaire la demande des établissements de santé. \nIl n’existe pas de produit capable de se substituer au sang. C’est parce que les produits sanguins ont une durée de vie limitée et que les besoins sont permanents que vos dons sont si précieux.\nLe don de sang est indispensable à la vie. Plus que jamais nous avons besoin de vous. \n \nVENEZ NOMBREUX ! \n\n  \nOù donner mon sang ? \nROUSSILLON \nSALLE L’ESPACE \nMARDI 10 février 2026 \n9H-12H30 & 15H-19H \n\nSur RDV : https://dondesang.efs.sante.fr/
URL:https://mairie-salaise-sur-sanne.com/evenement/don-du-sang/
LOCATION:Salle l’Espace\, Rue Anatole France\, Roussillon\, 38150
ATTACH;FMTTYPE=image/png:https://mairie-salaise-sur-sanne.com//wp-content/webpc-passthru.php?src=https://mairie-salaise-sur-sanne.com/wp-content/uploads/2022/01/BanniereDonduSang.png&amp;nocache=1
END:VEVENT
BEGIN:VEVENT
DTSTART;TZID=UTC:20260210T103000
DTEND;TZID=UTC:20260210T170000
DTSTAMP:20260422T152947
CREATED:20251125T095156Z
LAST-MODIFIED:20260203T130850Z
UID:10630-1770719400-1770742800@mairie-salaise-sur-sanne.com
SUMMARY:[Complet] Eveil sonore et musical
DESCRIPTION:Cette animation est complète. Merci de votre compréhension. \n  \nCOUCOU pour les 0-3 ans – Médiathèque Elsa Triolet \nAvec Sarah Bel mardi 10 février 10h30 dans le cadre du réseau Ecume \nGratuit sur inscription \n 
URL:https://mairie-salaise-sur-sanne.com/evenement/eveil-sonore-et-musical/
LOCATION:Médiathèque Elsa Triolet\, 18 Rue Pierre Avit Nicolas\, Salaise sur Sanne\, 38150\, France
CATEGORIES:Médiathèque
ATTACH;FMTTYPE=image/jpeg:https://mairie-salaise-sur-sanne.com//wp-content/webpc-passthru.php?src=https://mairie-salaise-sur-sanne.com/wp-content/uploads/2024/11/eveil-sonore-et-musical-avec-sarah-bel_27508881.jpg&amp;nocache=1
END:VEVENT
BEGIN:VEVENT
DTSTART;TZID=UTC:20260210T163000
DTEND;TZID=UTC:20260210T170000
DTSTAMP:20260422T152947
CREATED:20260129T130205Z
LAST-MODIFIED:20260130T093059Z
UID:10935-1770741000-1770742800@mairie-salaise-sur-sanne.com
SUMMARY:Lecture de Kamishibaï à la médiathèque Elsa Triolet.
DESCRIPTION:Venez écouter ces histoires\, sorties d’un petit théâtre de papier. \nMardi 10 février à 16h30 \nVendredi 20 février à 15h00 \nPour petites et grandes oreilles dès 3 ans. \nDurée 30 minutes. \nSans inscription. \nGratuit.
URL:https://mairie-salaise-sur-sanne.com/evenement/lecture-de-kamishibai-a-la-mediatheque-elsa-triolet/
LOCATION:Médiathèque Elsa Triolet\, 18 Rue Pierre Avit Nicolas\, Salaise sur Sanne\, 38150\, France
CATEGORIES:Médiathèque
ATTACH;FMTTYPE=image/jpeg:https://mairie-salaise-sur-sanne.com//wp-content/webpc-passthru.php?src=https://mairie-salaise-sur-sanne.com/wp-content/uploads/2026/01/Insta-LectureKamishibai.jpg&amp;nocache=1
END:VEVENT
BEGIN:VEVENT
DTSTART;TZID=UTC:20260211T100000
DTEND;TZID=UTC:20260211T153000
DTSTAMP:20260422T152947
CREATED:20250901T133027Z
LAST-MODIFIED:20250901T133027Z
UID:10190-1770804000-1770823800@mairie-salaise-sur-sanne.com
SUMMARY:Spectacle : Le petit Frankenstein _ Cie Intermezzo
DESCRIPTION:Fiction radiophonique\, spectacle sous casques –  1h \n10h et 14h30 \nDès 7 ans (à voir en famille) \nDans un futur pas si lointain\, le petit Frankenstein est un enfant différent : il a été fabriqué à l’aide d’une imprimante 3D et d’une Intelligence Artificielle. Fabriqué\, mais pas tout à fait fini\, un peu monstrueux. En découvrant le monde\, il va devoir se confronter au regard des autres. Sur scène\, quatre artistes fabriquent le spectacle en direct sous forme de fiction sonore. C’est avec un casque sur les oreilles que les spectateurs s’immergent dans le récit. Du théâtre pour les oreilles ! \nPar la commission culturelle de Salaise sur Sanne. Texte Angelina Galvani. Avec Erwan Flageul\, Valérie Gourru\, Bastien Lombardo\, Marie Neichel \n  \nRéservation – Travail et Culture – 04 74 29 45 26
URL:https://mairie-salaise-sur-sanne.com/evenement/spectacle-le-petit-frankenstein-_-cie-intermezzo/
LOCATION:Foyer Laurent Bouvier\, Rue Du 11 Novembre 1918\, 38150 Salaise sur Sanne\, France
ATTACH;FMTTYPE=image/png:https://mairie-salaise-sur-sanne.com//wp-content/webpc-passthru.php?src=https://mairie-salaise-sur-sanne.com/wp-content/uploads/2025/09/19.-Le-Petit-Frankenstein-c-Hubert-Girard-30.png&amp;nocache=1
ORGANIZER;CN="Travail et Culture":MAILTO:info@travailetculture.com
END:VEVENT
BEGIN:VEVENT
DTSTART;TZID=UTC:20260211T163000
DTEND;TZID=UTC:20260211T180000
DTSTAMP:20260422T152947
CREATED:20251202T102826Z
LAST-MODIFIED:20260203T130808Z
UID:10669-1770827400-1770832800@mairie-salaise-sur-sanne.com
SUMMARY:ANNULÉE - Animation : Les barbouilleurs des bosquets
DESCRIPTION:CETTE ANIMATION EST ANNULÉE. MERCI DE VOTRE COMPRÉHENSION. \n  \nLes barbouilleurs des bosquets :  \nFabrication d’encres végétales et de pinceaux et crayons naturels puis place à la création personnelle\, avec semis de plantes tinctoriales \nMercredi 11 février 2026 de 16h30 à 18h dans le cadre du réseau Ecume et les ateliers de la grainothèque (sur inscription)
URL:https://mairie-salaise-sur-sanne.com/evenement/animatiion-les-barbouilleurs-des-bosquets/
LOCATION:Médiathèque Elsa Triolet\, 18 Rue Pierre Avit Nicolas\, Salaise sur Sanne\, 38150\, France
CATEGORIES:Médiathèque
ATTACH;FMTTYPE=image/jpeg:https://mairie-salaise-sur-sanne.com//wp-content/webpc-passthru.php?src=https://mairie-salaise-sur-sanne.com/wp-content/uploads/2024/03/atelier-grainotheque-economies-deau-de-potager_20771370.jpg&amp;nocache=1
END:VEVENT
BEGIN:VEVENT
DTSTART;TZID=UTC:20260215T080000
DTEND;TZID=UTC:20260215T170000
DTSTAMP:20260422T152947
CREATED:20260202T135132Z
LAST-MODIFIED:20260202T135132Z
UID:10962-1771142400-1771174800@mairie-salaise-sur-sanne.com
SUMMARY:MATINEE  BOUDINS - GUEUSES -SAUCISSES
DESCRIPTION:MATINEE BOUDINS – GUEUSES -SAUCISSES proposée par le RHODIA BOULES \nDIMANCHE 15 FEVRIER \nA partir de 8h \nAu boulodrome des Cités \nRéservation au 07 61 11 51 21
URL:https://mairie-salaise-sur-sanne.com/evenement/matinee-boudins-gueuses-saucisses/
LOCATION:Boulodrome\, rue du 11 novembre 1918\, Salaise sur Sanne\, 38150
ATTACH;FMTTYPE=image/jpeg:https://mairie-salaise-sur-sanne.com//wp-content/webpc-passthru.php?src=https://mairie-salaise-sur-sanne.com/wp-content/uploads/2026/02/Matinee-boudins-rhodia-boules.jpg&amp;nocache=1
END:VEVENT
BEGIN:VEVENT
DTSTART;TZID=UTC:20260215T120000
DTEND;TZID=UTC:20260215T170000
DTSTAMP:20260422T152947
CREATED:20260205T074931Z
LAST-MODIFIED:20260205T074931Z
UID:10977-1771156800-1771174800@mairie-salaise-sur-sanne.com
SUMMARY:Choucroute de l'AEAP
DESCRIPTION:Choucroute \nDimanche 15 Février 12h00 – Salle Buisson \nSur place ou à emporter – 20€ \nRéservation : 06 83 11 12 93 \nAEAP\n(association Salaisienne)
URL:https://mairie-salaise-sur-sanne.com/evenement/choucroute-de-laeap/
LOCATION:Salle André Buisson\, 30 Rue Pierre Avit Nicolas\, 38150 Salaise sur Sanne\, France
ATTACH;FMTTYPE=image/jpeg:https://mairie-salaise-sur-sanne.com//wp-content/webpc-passthru.php?src=https://mairie-salaise-sur-sanne.com/wp-content/uploads/2026/02/AEAP.jpeg&amp;nocache=1
END:VEVENT
BEGIN:VEVENT
DTSTART;TZID=UTC:20260218T140000
DTEND;TZID=UTC:20260218T180000
DTSTAMP:20260422T152947
CREATED:20260126T101734Z
LAST-MODIFIED:20260216T075320Z
UID:10884-1771423200-1771437600@mairie-salaise-sur-sanne.com
SUMMARY:Animation jeu vidéo à l'espace Numérique
DESCRIPTION:Animation numérique vacances de Février Médiathèque de Salaise sur Sanne \nLe Mercredi 18 Février :\n– Animation jeu vidéo spécial famille\, de 14h00 à 16h00 (A partir de 7 ans avec parents)\nVenez jouer et partager un moment ensemble\, en famille à l’espace numérique de la médiathèque. Vous découvrirez des jeux comme : Wii Sport\, Mario Kart\, Overcooked\, Bomberman\, Kinect adventures\, mario…\n\n– Jeu vidéo libre ados / adultes de 16h00 à 18h00
URL:https://mairie-salaise-sur-sanne.com/evenement/animation-jeu-video-a-lespace-numerique/
LOCATION:Médiathèque Elsa Triolet\, 18 Rue Pierre Avit Nicolas\, Salaise sur Sanne\, 38150\, France
CATEGORIES:Médiathèque
ATTACH;FMTTYPE=image/jpeg:https://mairie-salaise-sur-sanne.com//wp-content/webpc-passthru.php?src=https://mairie-salaise-sur-sanne.com/wp-content/uploads/2025/09/250430-Gaming-e1758268075187.jpg&amp;nocache=1
END:VEVENT
BEGIN:VEVENT
DTSTART;TZID=UTC:20260219T140000
DTEND;TZID=UTC:20260219T170000
DTSTAMP:20260422T152947
CREATED:20260212T091222Z
LAST-MODIFIED:20260212T091222Z
UID:11001-1771509600-1771520400@mairie-salaise-sur-sanne.com
SUMMARY:Commission de contrôle des listes électorales
DESCRIPTION:Réunion de la Commission de contrôle des listes électorales \njeudi 19 février 2026 à 14h \nMairie de Salaise-sur-Sanne
URL:https://mairie-salaise-sur-sanne.com/evenement/commission-de-controle-des-listes-electorales/
LOCATION:Mairie de Salaise sur Sanne\, 19. rue Pierre Avit Nicolas\, Salaise sur Sanne\, 38150
ATTACH;FMTTYPE=image/jpeg:https://mairie-salaise-sur-sanne.com//wp-content/webpc-passthru.php?src=https://mairie-salaise-sur-sanne.com/wp-content/uploads/2026/02/Commission-de-controle.jpg&amp;nocache=1
END:VEVENT
BEGIN:VEVENT
DTSTART;TZID=UTC:20260220T140000
DTEND;TZID=UTC:20260220T180000
DTSTAMP:20260422T152947
CREATED:20260126T103803Z
LAST-MODIFIED:20260216T075346Z
UID:10886-1771596000-1771610400@mairie-salaise-sur-sanne.com
SUMMARY:Animation jeu vidéo à l'espace numérique
DESCRIPTION:Le vendredi 20 Février :\n\n– Animation jeu vidéo spécial famille\, de 14h00 à 16h00 (A partir de 7 ans avec parents)\n\nVenez jouer et partager un moment ensemble\, en famille à l’espace numérique de la médiathèque. Vous découvrirez des jeux comme : Wii Sport\, Mario Kart\, Overcooked\, Bomberman\, Kinect adventures\, mario… \n– Jeu vidéo libre ados / adultes de 16h00 à 18h00
URL:https://mairie-salaise-sur-sanne.com/evenement/animation-jeu-video-a-lespace-numerique-2/
LOCATION:Médiathèque Elsa Triolet\, 18 Rue Pierre Avit Nicolas\, Salaise sur Sanne\, 38150\, France
CATEGORIES:Médiathèque
ATTACH;FMTTYPE=image/jpeg:https://mairie-salaise-sur-sanne.com//wp-content/webpc-passthru.php?src=https://mairie-salaise-sur-sanne.com/wp-content/uploads/2025/09/250430-Gaming-e1758268075187.jpg&amp;nocache=1
END:VEVENT
BEGIN:VEVENT
DTSTART;TZID=UTC:20260220T150000
DTEND;TZID=UTC:20260220T153000
DTSTAMP:20260422T152947
CREATED:20260129T130418Z
LAST-MODIFIED:20260130T093135Z
UID:10937-1771599600-1771601400@mairie-salaise-sur-sanne.com
SUMMARY:Lecture de Kamishibaï à la médiathèque Elsa Triolet.
DESCRIPTION:Venez écouter ces histoires\, sorties d’un petit théâtre de papier.\n \nVendredi 20 février à 15h00\n \nPour petites et grandes oreilles dès 3 ans.\n \nDurée 30 minutes.\nSans inscription.\nGratuit.
URL:https://mairie-salaise-sur-sanne.com/evenement/lecture-de-kamishibai-a-la-mediatheque-elsa-triolet-2/
LOCATION:Médiathèque Elsa Triolet\, 18 Rue Pierre Avit Nicolas\, Salaise sur Sanne\, 38150\, France
CATEGORIES:Médiathèque
ATTACH;FMTTYPE=image/jpeg:https://mairie-salaise-sur-sanne.com//wp-content/webpc-passthru.php?src=https://mairie-salaise-sur-sanne.com/wp-content/uploads/2026/01/Insta-LectureKamishibai2.jpg&amp;nocache=1
END:VEVENT
BEGIN:VEVENT
DTSTART;VALUE=DATE:20260228
DTEND;VALUE=DATE:20260301
DTSTAMP:20260422T152947
CREATED:20260130T101923Z
LAST-MODIFIED:20260130T101923Z
UID:10952-1772236800-1772323199@mairie-salaise-sur-sanne.com
SUMMARY:Matinée gourmande
DESCRIPTION:L’ASSOCIATION DES CAVALIERS DE LA CITADELLE VOUS PROPOSE une matinée gourmande. \nCaillettes • Pommes de terre •Tomme daubée \n28 février 2026 \nEcuries de la Citadelle \n20 rue de la citadelle\, 38150 Salaise-sur-Sanne \n  \nPossibilité de réservation  : 06 59 21 84 41
URL:https://mairie-salaise-sur-sanne.com/evenement/matinee-gourmande/
LOCATION:Ecuries de la Citadelle\, 20 Rue de la Citadelle\, Salaise sur Sanne\, France
ATTACH;FMTTYPE=image/jpeg:https://mairie-salaise-sur-sanne.com//wp-content/webpc-passthru.php?src=https://mairie-salaise-sur-sanne.com/wp-content/uploads/2026/01/26-MatineeGourmande.jpg&amp;nocache=1
ORGANIZER;CN="Ecuries de la citadelle":MAILTO:assodescavaliersdelacitadelle@gmail.com
END:VEVENT
BEGIN:VEVENT
DTSTART;TZID=UTC:20260228T140000
DTEND;TZID=UTC:20260228T173000
DTSTAMP:20260422T152947
CREATED:20260122T082153Z
LAST-MODIFIED:20260122T082153Z
UID:10880-1772287200-1772299800@mairie-salaise-sur-sanne.com
SUMMARY:Enquête publique unique  EM-RHÔNE :  présence du commissaire enquêteur
DESCRIPTION:AVIS D’ENQUÊTE PUBLIQUE UNIQUE \nDemande d’autorisation environnementale au titre des installations classées pour la protection de l’environnement pour la construction et l’exploitation d’une usine de production de e-méthanol bas-carbone assortie de deux demandes d’autorisation d’urbanisme (permis de construire : PC n°038 468 25 10014 et PC n°038 468 25 10013) par la société EM-RHÔNE située route départementale 4\, lieu-dit « Les Blâches Sud » et sur la plateforme chimique de Roussillon sur la commune de Salaise-sur-Sanne (38150) \nPar arrêté préfectoral n°DDPP-IC-2026-01-02 du 9 janvier 2026\, une enquête publique unique sur le projet susvisé\, d’une durée de 31 jours\, est prescrite du lundi 2 février 2026 à 9h30 au mercredi 4 mars 2026 à 17h. \nLa préfète de l’Isère est l’autorité compétente pour prendre l’arrêté préfectoral d’autorisation environnementale\, assorti de prescriptions d’exploitation\, ou l’arrêté de refus. Elle est également l’autorité compétente pour accorder la délivrance des permis de construire avec ou sans prescription\, les refuser\, ou s’octroyer un sursis pour obtenir des compléments. \nPendant la durée de l’enquête publique unique\, le dossier de demande d’autorisation environnementale assortie de deux demandes d’autorisation d’urbanisme\, comprenant\, notamment\, une étude d’impact\, un avis de l’Autorité environnementale et un avis du conseil national de la protection de la nature est consultable : \n• en mairie de Salaise-sur-Sanne (19 rue Pierre Avit Nicolas – 38150 Salaise-sur-Sanne)\, siège de l’enquête\, sur support papier aux jours et heures habituels d’ouverture au public de la mairie\, \n• sur le site internet à l’adresse suivante : www.isere.gouv.fr – https://www.isere.gouv.fr/Publications/Mises-a-disposition-Consultations-enquetes-publiques-concertations-prealables-declarations-de-projets/Enquetes-publiques \n• sur un poste informatique accessible gratuitement au sein de la mairie de Salaise-sur-Sanne. \n  \nPendant la durée de l’enquête publique unique\, les intéressés pourront formuler leurs observations et propositions : \n• sur le registre d’enquête\, mis à la disposition du public en mairie de Salaise-sur-Sanne\, \n• par courriel à l’adresse suivante : ddpp-observations-ic@isere.gouv.fr jusqu’au mercredi 4 mars 2026 à 17h\, \n• par voie postale à la mairie de Salaise-sur-Sanne (cf. adresse supra)\, à l’attention du commissaire enquêteur. \n  \nLes observations et propositions transmises par voie électronique seront consultables\, dans les meilleurs délais\, sur lesite internet des services de l’État en Isère : www.isere.gouv.fr (cf. lien supra) \n  \nLe commissaire enquêteur\, M. Edward PIERROT\, ingénieur\, recevra les observations orales ou écrites du public en mairie de Salaise-sur-Sanne\, aux jours et heures suivants\, et dans le respect du protocole sanitaire en vigueur : \n• lundi 2 février 2026 – 9h30-12h et 14h-18h\, en mairie de Salaise-sur-Sanne\, \n• samedi 28 février 2026 – 14h-17h30\, à la médiathèque Elsa Triolet (18 rue Pierre Avit Nicolas – 38150 Salaise-sur-Sanne)\, \n• mercredi 4 mars 2026 – 9h-12h et 14h-17h\, en mairie de Salaise-sur-Sanne. \nM. Xavier RHONÉ\, directeur en ingénierie de projets retraité\, désigné en qualité de commissaire enquêteur suppléant\,remplacera le commissaire enquêteur en cas d’empêchement de celui-ci et exercera alors ces fonctions jusqu’au terme de la procédure. \nToute information sur le projet peut être demandée auprès de : \n• M. Benoit DECOURT\, directeur général affaires publiques et stratégie (tél : 06 21 12 48 36 ; Mél :bdecourt@elyse.energy)\, \n• Service installations classées de la direction départementale de la protection des populations (DDPP) – 22 avenue Doyen Louis Weil à Grenoble (tél : 04.56.59.49.99 – Mél : ddpp-ic@isere.gouv.fr). \nToute personne peut\, sur sa demande et à ses frais\, obtenir communication du dossier d’enquête publique auprès de la DDPP. \nLe rapport et les conclusions du commissaire enquêteur pourront être consultés à la DDPP – service installations classées\, à la mairie de Salaise-sur-Sanne et sur le site internet des services de l’État en Isère www.isere.gouv.fr \nhttps://www.isere.gouv.fr/Publications/Mises-a-disposition-Consultations-enquetes-publiques-concertations-prealables-declarations-de-projets/Rapports-d-enquetes pendant une durée d’un an à compter de la clôture de l’enquête.
URL:https://mairie-salaise-sur-sanne.com/evenement/enquete-publique-unique-em-rhone-presence-du-commissaire-enqueteur-3/
LOCATION:Médiathèque Elsa Triolet\, 18 Rue Pierre Avit Nicolas\, Salaise sur Sanne\, 38150\, France
ATTACH;FMTTYPE=image/webp:https://mairie-salaise-sur-sanne.com/wp-content/uploads/2026/01/em-rhone-vertical-couleur-768x768-1.webp
END:VEVENT
END:VCALENDAR