BEGIN:VCALENDAR
VERSION:2.0
PRODID:-//Mairie Salaise sur Sanne - ECPv6.15.20//NONSGML v1.0//EN
CALSCALE:GREGORIAN
METHOD:PUBLISH
X-WR-CALNAME:Mairie Salaise sur Sanne
X-ORIGINAL-URL:https://mairie-salaise-sur-sanne.com
X-WR-CALDESC:Évènements pour Mairie Salaise sur Sanne
REFRESH-INTERVAL;VALUE=DURATION:PT1H
X-Robots-Tag:noindex
X-PUBLISHED-TTL:PT1H
BEGIN:VTIMEZONE
TZID:UTC
BEGIN:STANDARD
TZOFFSETFROM:+0000
TZOFFSETTO:+0000
TZNAME:UTC
DTSTART:20250101T000000
END:STANDARD
END:VTIMEZONE
BEGIN:VEVENT
DTSTART;TZID=UTC:20260128T100000
DTEND;TZID=UTC:20260128T110000
DTSTAMP:20260422T151340
CREATED:20250901T132802Z
LAST-MODIFIED:20251215T131230Z
UID:10187-1769594400-1769598000@mairie-salaise-sur-sanne.com
SUMMARY:Spectacle : Bleu nuit _ Cie Conte en Ombres
DESCRIPTION:Théâtre d’ombres musical – 30 min \nDès 3 ans (à voir en famille) \nRosanui vit sous les étoiles. Quand le jour s’éteint et que tout s’apaise\, elle ouvre les yeux et son monde apparaît : lucioles scintillantes au cœur de la forêt\, chats des villes sur les toits des maisons… Une histoire pour explorer la nuit à la fois inquiétante\, fascinante et pleine de douceur à travers les yeux de Rosanui. Accueilli dans le cadre du FJP 24\, Rosalune laisse la place à Rosanui pour aller à la rencontre des écoles. \nD’après l’album Rosanui d’Emma Robert et Romain Lubière. Manipulation / conte/ chant : Marion Bornachot. Violoncelle /contrebasse /chant: Anne-Colombe Martin. Accordéon / flûte/clavier/chant: Pauline Koutnouyan \n  \nRéservation : Travail et Culture – 04 74 29 45 26
URL:https://mairie-salaise-sur-sanne.com/evenement/spectacle-bleu-nuit-_-cie-conte-en-ombres/
LOCATION:Foyer Laurent Bouvier\, Rue Du 11 Novembre 1918\, 38150 Salaise sur Sanne\, France
ATTACH;FMTTYPE=image/jpeg:https://mairie-salaise-sur-sanne.com//wp-content/webpc-passthru.php?src=https://mairie-salaise-sur-sanne.com/wp-content/uploads/2025/09/16.-Bleu-Nuit-_-AnneCo-Pauline@Maxime-Forot.jpg&amp;nocache=1
ORGANIZER;CN="Travail et Culture":MAILTO:info@travailetculture.com
END:VEVENT
BEGIN:VEVENT
DTSTART;TZID=UTC:20260129T183000
DTEND;TZID=UTC:20260129T183000
DTSTAMP:20260422T151340
CREATED:20251017T122604Z
LAST-MODIFIED:20260123T160023Z
UID:10498-1769711400-1769711400@mairie-salaise-sur-sanne.com
SUMMARY:Conseil municipal
DESCRIPTION:Ouvert à tous \n  \nInformation au Conseil Municipal \n\nDécisions du Maire par délégation du conseil municipal\n\nGestion du patrimoine\, domaine public\n\nBaux communaux 2025\n\n\nFinances\n\nDon octroyé à une association\nFormation des élus 2025 & remboursement des frais de déplacement\nAdhésion 2025 aux associations ou autres organismes\n\n\nIntercommunalité – Communauté de Communes Entre Bièvre et Rhône\n\nRapport 2024 sur le prix et la qualité du service eaux et assainissement\nRapport 2024 sur le prix et la qualité du service public de prévention et de gestion des déchets ménagers et assimilés\n\n\n\n\n\nAdoption du procès-verbal du Conseil Municipal du 11 décembre 2025 \nFinances \n\nBudget général 2026\nBudget annexe des Nèves 2026\nVote des taux d’imposition communaux 2026\nParticipation de la collectivité aux séjours des enfants au centre Charles Marchisio\n\nEnvironnement \n\nAire Terrestre Educative – Convention de mise à disposition de terrain à l’école Floréal\n\nUrbanisme \n\nCession à titre onéreux de la parcelle AD 9 lieudit « Les Perches » à la CC EBER\n\nBâtiment – Mairie \n\nChangement de nom de la salle du Conseil Municipal\n\nCulture \n\nCharte d’utilisation du Prieuré et de la maison du Prieur
URL:https://mairie-salaise-sur-sanne.com/evenement/conseil-municipal/
LOCATION:Mairie de Salaise sur Sanne\, 19. rue Pierre Avit Nicolas\, Salaise sur Sanne\, 38150
END:VEVENT
END:VCALENDAR