BEGIN:VCALENDAR
VERSION:2.0
PRODID:-//Mairie Salaise sur Sanne - ECPv6.14.2//NONSGML v1.0//EN
CALSCALE:GREGORIAN
METHOD:PUBLISH
X-WR-CALNAME:Mairie Salaise sur Sanne
X-ORIGINAL-URL:https://mairie-salaise-sur-sanne.com
X-WR-CALDESC:Évènements pour Mairie Salaise sur Sanne
REFRESH-INTERVAL;VALUE=DURATION:PT1H
X-Robots-Tag:noindex
X-PUBLISHED-TTL:PT1H
BEGIN:VTIMEZONE
TZID:UTC
BEGIN:STANDARD
TZOFFSETFROM:+0000
TZOFFSETTO:+0000
TZNAME:UTC
DTSTART:20260101T000000
END:STANDARD
END:VTIMEZONE
BEGIN:VEVENT
DTSTART;TZID=UTC:20260327T203000
DTEND;TZID=UTC:20260327T203000
DTSTAMP:20260420T135920
CREATED:20260127T092046Z
LAST-MODIFIED:20260216T104910Z
UID:10916-1774643400-1774643400@mairie-salaise-sur-sanne.com
SUMMARY:Salaise Blues festival 2026 : Concert MAMA JAKE (FR) + LINDA LEE HOPKINS (USA)
DESCRIPTION:CONCERT / FOYER LAURENT BOUVIER  \nVENDREDI 27 MARS – DÈS 20H30 \n  \nOuverture de la soirée par les élèves de classe « musiques actuelles » du conservatoire  \n  \nMAMA JAKE (FR) \n  \nMama Jake\, c’est le blues qui a vécu\, aimé\, galéré et ri. Un duo incandescent de swing et de cabaret blues porté par deux femmes qui n’ont plus rien à prouver et tout à raconter. \n  \nÀ la barre\, Ady\, guitariste\, chanteuse et percussionniste\, lauréate du Challenge Blues Français 2024\, et Anna Boulic\, harpiste et chanteuse australienne à la sensibilité magnétique. Ensemble\, elles forment un duo rare\, audacieux et délicieusement rétro\, inspiré par les années 30\, le vaudeville\, le blues des speakeasies et l’esthétique des cabarets enfumés. \nSur scène\, Mama Jake distille un blues charnel\, du swing grinçant et des harmonies ciselées\, porté par une harpe hypnotique\, une guitare percussive et deux voix qui s’entrelacent\, se provoquent et se répondent. Leur univers évoque autant les pionnières du blues que les grandes figures du burlesque\, entre sensualité\, ironie et élégance vintage. \n  \nMama Jake\, c’est un cabaret blues pour temps présents : élégant\, insolent\, tendre et furieusement vivant. \n  \nLINDA LEE HOPKINS (USA) \n  \nLinda\, vous la connaissez déjà\, sans la connaître vraiment. Parce qu’en 2002 elle pilotait The beat goes on\, tube house du DJ Bob Sinclar ; parce qu’elle dirigeait Gospel pour 100 voix\, chorale XXL qui a rempli plusieurs fois Bercy. Un grand écart conforme à sa manière d’embrasser la musique : une affaire d’émotions\, de feeling\, pas d’étiquettes. Un amour profond qui remonte à l’enfance de cette Américaine native de Caroline du Nord. \nEn juin 1991\, Linda pose ses bagages à Paris. Une aubaine pour la France\, ses studios\, ses artistes en tournée. Nino Ferrer\, Bernard Lavilliers\, Gloria Gaynor\, Percy Sledge\, Ray Charles et et bien d’autres feront appel à son savoir-faire. Tout comme Ben l’Oncle Soul en 2013. \nEn allant puiser dans les riches racines des musiques afro-américaines et dans son vécu personnel\, “Spirit & Soul”\, son premier projet solo\, encapsule toute la vitalité d’une perle cachée que l’on découvre enfin réellement. Avec un tel répertoire\, les prochains concerts promettent une rencontre particulièrement intense. D’autant plus que Linda a un don pour incarner les chansons et embarquer le public avec elle. \n  \nSAMEDI 28 MARS – DÈS 20H30\nFOYER LAURENT BOUVIER à Salaise sur Sanne\nTarif : 12 à 22 € \nBilletterie : Travail et Culture au 04 74 29 45 26 ou en ligne : https://billetterie-travailetculture.mapado.com/ \n 
URL:https://mairie-salaise-sur-sanne.com/evenement/salaise-blues-festival-2026-concert-mama-jake-fr-linda-lee-hopkins-usa/
LOCATION:Foyer Laurent Bouvier\, Rue Du 11 Novembre 1918\, 38150 Salaise sur Sanne\, France
CATEGORIES:SalaiseBluesFestival
ATTACH;FMTTYPE=image/jpeg:https://mairie-salaise-sur-sanne.com//wp-content/webpc-passthru.php?src=https://mairie-salaise-sur-sanne.com/wp-content/uploads/2026/01/InstaSBF-20269.jpg&amp;nocache=1
END:VEVENT
END:VCALENDAR