BEGIN:VCALENDAR
VERSION:2.0
PRODID:-//Mairie Salaise sur Sanne - ECPv6.14.2//NONSGML v1.0//EN
CALSCALE:GREGORIAN
METHOD:PUBLISH
X-ORIGINAL-URL:https://mairie-salaise-sur-sanne.com
X-WR-CALDESC:Évènements pour Mairie Salaise sur Sanne
REFRESH-INTERVAL;VALUE=DURATION:PT1H
X-Robots-Tag:noindex
X-PUBLISHED-TTL:PT1H
BEGIN:VTIMEZONE
TZID:UTC
BEGIN:STANDARD
TZOFFSETFROM:+0000
TZOFFSETTO:+0000
TZNAME:UTC
DTSTART:20260101T000000
END:STANDARD
END:VTIMEZONE
BEGIN:VEVENT
DTSTART;TZID=UTC:20260326T203000
DTEND;TZID=UTC:20260326T223000
DTSTAMP:20260420T140215
CREATED:20260127T091728Z
LAST-MODIFIED:20260130T101359Z
UID:10911-1774557000-1774564200@mairie-salaise-sur-sanne.com
SUMMARY:Blues and bar 2026 : MAMA JAKE
DESCRIPTION:Concert gratuit dans le cadre du Salaise Blues Festival 2026 \nMAMA JAKE (ADY ONE WOMAN BAND & ANNA BOULIC)  \nMama Jake est un duo de blues et swing à l’esthétique cabaret des années 30\, mené par Ady (guitare\, chant\, percussions\, lauréate du Challenge Blues Français 2024) et l’Australienne Anna Boulic (harpe et chant). \nEntre blues charnel\, swing vintage et harmonies envoûtantes\, ces deux femmes racontent avec humour\, audace et féminisme la vie de femmes d’aujourd’hui : travail\, amour\, séparation\, maternité\, liberté. \nUn cabaret blues élégant\, engagé et furieusement vivant. \nJEUDI 26 MARS – 20H30\nLE HALL BLUES CLUB\nrue de la tour\n42410 Pélussin
URL:https://mairie-salaise-sur-sanne.com/evenement/blues-and-bar-2026-mama-jake/
LOCATION:LE HALL BLUES CLUB\, rue de la tour\, Pélussin\, 42410
CATEGORIES:SalaiseBluesFestival
ATTACH;FMTTYPE=image/jpeg:https://mairie-salaise-sur-sanne.com//wp-content/webpc-passthru.php?src=https://mairie-salaise-sur-sanne.com/wp-content/uploads/2026/01/InstaSBF-20267.jpg&amp;nocache=1
END:VEVENT
END:VCALENDAR