BEGIN:VCALENDAR
VERSION:2.0
PRODID:-//Mairie Salaise sur Sanne - ECPv6.14.2//NONSGML v1.0//EN
CALSCALE:GREGORIAN
METHOD:PUBLISH
X-WR-CALNAME:Mairie Salaise sur Sanne
X-ORIGINAL-URL:https://mairie-salaise-sur-sanne.com
X-WR-CALDESC:Évènements pour Mairie Salaise sur Sanne
REFRESH-INTERVAL;VALUE=DURATION:PT1H
X-Robots-Tag:noindex
X-PUBLISHED-TTL:PT1H
BEGIN:VTIMEZONE
TZID:UTC
BEGIN:STANDARD
TZOFFSETFROM:+0000
TZOFFSETTO:+0000
TZNAME:UTC
DTSTART:20260101T000000
END:STANDARD
END:VTIMEZONE
BEGIN:VEVENT
DTSTART;TZID=UTC:20260325T143000
DTEND;TZID=UTC:20260325T170000
DTSTAMP:20260420T135847
CREATED:20260127T091347Z
LAST-MODIFIED:20260130T100946Z
UID:10907-1774449000-1774458000@mairie-salaise-sur-sanne.com
SUMMARY:Salaise Blues Festival 2026 : concert jeune public
DESCRIPTION:SPECTACLE MUSICAL JEUNE PUBLIC  \nFOYER L. BOUVIER \nMERCREDI 25 MARS à 14h30 \n« VIOLETTE MÈNE L’ENQUÊTE » PAR MAMA JAKE \nGratuit \n1H\, dès 6 ans \n  \nViolette mène l’enquête est un spectacle musical qui mêle aventure\, humour et blues swing\, pour faire découvrir aux plus jeunes l’univers du polar\, la richesse du patrimoine viticole français et la force de – personnages féminins libres et courageux. L’histoire s’inspire de témoignages réels de vignerons et vigneronnes de Touraine\, transformés ici en matière poétique\, ludique et musicale. Porté par des rythmes blues et swing\, le spectacle transforme chaque scène en moment de jeu\, de chant et d’émotion. \n  \nSur scène\, Ady\, lauréate du Challenge Blues Français 2024 et quart-de-finaliste de l’International Blues Challenge 2025 à Memphis\, incarne Violette Milgrand avec sa guitare\, sa voix et son énergie débordante. À ses côtés\, Anna Boulic\, harpiste et chanteuse australienne\, prête à Charlie Stone une sensibilité malicieuse et une musicalité envoûtante. \nÀ elles deux\, elles tiennent la scène comme un duo de cinéma vivant\, jouant\, chantant\, dialoguant et improvisant avec une complicité qui captive petits et grands.
URL:https://mairie-salaise-sur-sanne.com/evenement/salaise-blues-festival-2026-concert-jeune-public/
LOCATION:Foyer Laurent Bouvier\, Rue Du 11 Novembre 1918\, 38150 Salaise sur Sanne\, France
CATEGORIES:SalaiseBluesFestival
ATTACH;FMTTYPE=image/jpeg:https://mairie-salaise-sur-sanne.com//wp-content/webpc-passthru.php?src=https://mairie-salaise-sur-sanne.com/wp-content/uploads/2026/01/InstaSBF-20265.jpg&amp;nocache=1
END:VEVENT
BEGIN:VEVENT
DTSTART;TZID=UTC:20260325T170000
DTEND;TZID=UTC:20260325T170000
DTSTAMP:20260420T135847
CREATED:20260127T091830Z
LAST-MODIFIED:20260216T104412Z
UID:10914-1774458000-1774458000@mairie-salaise-sur-sanne.com
SUMMARY:Salaise Blues Festival 2026 : MASTERCLASS
DESCRIPTION:MASTERCLASS \nEN PARTENARIAT AVEC LE CONSERVATOIRE 6/4 \nMercredi 25 mars dès 17h avec Théo Charaf \n  \nLorsque l’on arrive à la 3e édition\, on peut parler de tradition. Ainsi\, la masterclass en partenariat avec le conservatoire 6/4 et la classe « musiques actuelles » reprend du service  pour l’édition 2026. \nNous vous proposons de vous joindre à eux le mercredi 25 mars\, à partir de 17h\, à la salle de spectacles de St Clair du Rhône. \n  \nCet atelier participatif est libre et gratuit\, dans la limite des places disponibles. \n  \nMerci de nous confirmer votre présence par mail info@travailetculture.com. \nPensez à amener vos instruments ou votre voix ! \n  \nGratuit et dans la limite des places disponibles\, sur inscriptions : EPCC Travail Et Culture \n04 74 29 45 26 info@travailetculture.com
URL:https://mairie-salaise-sur-sanne.com/evenement/salaise-blues-festival-2026-masterclass/
LOCATION:SALLE DE SPECTACLES\, Place Charles de Gaulle\, Saint Clair du Rhône\, 38370
CATEGORIES:SalaiseBluesFestival
ATTACH;FMTTYPE=image/jpeg:https://mairie-salaise-sur-sanne.com//wp-content/webpc-passthru.php?src=https://mairie-salaise-sur-sanne.com/wp-content/uploads/2026/01/InstaSBF-2026Correc.jpg&amp;nocache=1
END:VEVENT
END:VCALENDAR