BEGIN:VCALENDAR
VERSION:2.0
PRODID:-//Mairie Salaise sur Sanne - ECPv6.14.2//NONSGML v1.0//EN
CALSCALE:GREGORIAN
METHOD:PUBLISH
X-ORIGINAL-URL:https://mairie-salaise-sur-sanne.com
X-WR-CALDESC:Évènements pour Mairie Salaise sur Sanne
REFRESH-INTERVAL;VALUE=DURATION:PT1H
X-Robots-Tag:noindex
X-PUBLISHED-TTL:PT1H
BEGIN:VTIMEZONE
TZID:UTC
BEGIN:STANDARD
TZOFFSETFROM:+0000
TZOFFSETTO:+0000
TZNAME:UTC
DTSTART:20260101T000000
END:STANDARD
END:VTIMEZONE
BEGIN:VEVENT
DTSTART;TZID=UTC:20260313T190000
DTEND;TZID=UTC:20260313T190000
DTSTAMP:20260420T140313
CREATED:20260127T090728Z
LAST-MODIFIED:20260130T101203Z
UID:10897-1773428400-1773428400@mairie-salaise-sur-sanne.com
SUMMARY:Blues and Bar 2026 : MONSIEUR BOSSEIGNE
DESCRIPTION:Concert gratuit dans le cadre du Salaise Blues Festival 2026 \nComme une grand-mère s’enivre de chocolats à la liqueur dans son rocking-chair\, Monsieur Bosseigne délivre ses textes accrocheurs avec expérience et maturité. Complice et généreux sur scène\, il profite de l’instant avec simplicité. À l’instar de Shiva\, la pin-up de Monsieur Bosseigne a six bras. Pour cause\, Monsieur Bosseigne est un trio dont le premier enregistrement s’inspire de l’Inde. Loin d’être sainte\, cette trinité est classique dans l’esthétique rock’n’roll des années 50. L’esprit d’origine est bien présent\, le son est actuel\, l’énergie et le sens de l’autodérision font le reste. \n  \nVENDREDI 13 MARS – 19H\nSALLE POLYVALENTE\nChemin des plâtres\n38770 St Alban du Rhône
URL:https://mairie-salaise-sur-sanne.com/evenement/blues-and-bar-2026-monsieur-bosseigne/
LOCATION:SALLE POLYVALENTE\, Chemin des plâtres\, St Alban du Rhône\, 38770
CATEGORIES:SalaiseBluesFestival
ATTACH;FMTTYPE=image/jpeg:https://mairie-salaise-sur-sanne.com//wp-content/webpc-passthru.php?src=https://mairie-salaise-sur-sanne.com/wp-content/uploads/2026/01/InstaSBF-2026.jpg&amp;nocache=1
END:VEVENT
END:VCALENDAR