BEGIN:VCALENDAR
VERSION:2.0
PRODID:-//Mairie Salaise sur Sanne - ECPv6.15.20//NONSGML v1.0//EN
CALSCALE:GREGORIAN
METHOD:PUBLISH
X-ORIGINAL-URL:https://mairie-salaise-sur-sanne.com
X-WR-CALDESC:Évènements pour Mairie Salaise sur Sanne
REFRESH-INTERVAL;VALUE=DURATION:PT1H
X-Robots-Tag:noindex
X-PUBLISHED-TTL:PT1H
BEGIN:VTIMEZONE
TZID:UTC
BEGIN:STANDARD
TZOFFSETFROM:+0000
TZOFFSETTO:+0000
TZNAME:UTC
DTSTART:20250101T000000
END:STANDARD
END:VTIMEZONE
BEGIN:VEVENT
DTSTART;TZID=UTC:20260401T183000
DTEND;TZID=UTC:20260401T200000
DTSTAMP:20260424T122351
CREATED:20260302T133935Z
LAST-MODIFIED:20260302T133935Z
UID:11061-1775068200-1775073600@mairie-salaise-sur-sanne.com
SUMMARY:Concert : Festins baroques
DESCRIPTION:Le conservatoire 6/4 Entre Bièvre et Rhône (classes de danse\, musiques classique et ancienne) propose un voyage dans le temps et dans vos papilles ! Partez pour une déambulation dansée au cœur de la maison du prieur où les pas des danseurs vous guideront à travers les couloirs jusqu’au concert baroque dans le prieuré\, pour une immersion musicale envoûtante ! Pour finir en beauté\, laissez vos sens se régaler avec une dégustation digne du XVIIIème siècle. \nMercredi 1er avril à 18h30\n \nEntrée gratuite\nRéservation 04 74 29 31 18
URL:https://mairie-salaise-sur-sanne.com/evenement/concert-festins-baroques/
LOCATION:Prieuré de Salaise sur Sanne\, Chemin du Châtet\, Salaise sur Sanne\, 38150
CATEGORIES:Prieuré
ATTACH;FMTTYPE=image/jpeg:https://mairie-salaise-sur-sanne.com//wp-content/webpc-passthru.php?src=https://mairie-salaise-sur-sanne.com/wp-content/uploads/2026/03/Festival-Bourgeons.jpg&amp;nocache=1
END:VEVENT
END:VCALENDAR