BEGIN:VCALENDAR
VERSION:2.0
PRODID:-//Mairie Salaise sur Sanne - ECPv6.14.2//NONSGML v1.0//EN
CALSCALE:GREGORIAN
METHOD:PUBLISH
X-ORIGINAL-URL:https://mairie-salaise-sur-sanne.com
X-WR-CALDESC:Évènements pour Mairie Salaise sur Sanne
REFRESH-INTERVAL;VALUE=DURATION:PT1H
X-Robots-Tag:noindex
X-PUBLISHED-TTL:PT1H
BEGIN:VTIMEZONE
TZID:UTC
BEGIN:STANDARD
TZOFFSETFROM:+0000
TZOFFSETTO:+0000
TZNAME:UTC
DTSTART:20260101T000000
END:STANDARD
END:VTIMEZONE
BEGIN:VEVENT
DTSTART;TZID=UTC:20260307T160000
DTEND;TZID=UTC:20260307T170000
DTSTAMP:20260420T093252
CREATED:20251215T072813Z
LAST-MODIFIED:20260219T133642Z
UID:10732-1772899200-1772902800@mairie-salaise-sur-sanne.com
SUMMARY:Rencontre lecture dédicace avec Roland Chiavérina
DESCRIPTION:Rencontre lecture dédicace avec Roland Chiavérina – Samedi 7 mars 2026 à 16h \nRoland Chiavérina (de son nom de plume : Robin Cadé-Sablat)\, poète salaisien\, explore dans ses textes les paysages intérieurs\, les gestes du quotidien et la façon dont les mots peuvent ouvrir des lieux de partage. Son écriture\, à la fois sensible et ancrée dans le réel\, cherche l’équilibre entre la simplicité du vécu et l’intensité du langage. \nIl propose une traversée de ses poèmes récents : des textes qui disent la présence\, l’attention au monde\, et ces petites révolutions intimes qui transforment nos regards. \nHabitant de Salaise-sur-Sanne\, attaché aux rencontres et aux échanges autour de la création\, il conçoit cette soirée comme un moment convivial\, ouvert à toutes et tous\, où la poésie se lit\, s’écoute et se partage.
URL:https://mairie-salaise-sur-sanne.com/evenement/rencontre-lecture-dedicace-avec-roland-chiaverina/
LOCATION:Médiathèque Elsa Triolet\, 18 Rue Pierre Avit Nicolas\, Salaise sur Sanne\, 38150\, France
CATEGORIES:Médiathèque
ATTACH;FMTTYPE=image/jpeg:https://mairie-salaise-sur-sanne.com//wp-content/webpc-passthru.php?src=https://mairie-salaise-sur-sanne.com/wp-content/uploads/2025/12/Instagram-Rencontre-dedicace.jpg&amp;nocache=1
END:VEVENT
BEGIN:VEVENT
DTSTART;TZID=UTC:20260318T150000
DTEND;TZID=UTC:20260318T170000
DTSTAMP:20260420T093252
CREATED:20260223T143351Z
LAST-MODIFIED:20260223T143351Z
UID:11041-1773846000-1773853200@mairie-salaise-sur-sanne.com
SUMMARY:Atelier de poésie avec Zingonia Zingone
DESCRIPTION:2h / sur inscription\ntout public\n\nMercredi 18 mars 2026 de 15h à 17h -Dans le cadre du réseau Ecume\nZingonia Zingone vous invite à un atelier qui s’adresse à tous ceux qui souhaitent découvrir la poésie autrement – à travers des lectures\, des jeux d’écriture\, des échanges sensibles et des instants d’inspiration collective.\n\n\nGratuit.
URL:https://mairie-salaise-sur-sanne.com/evenement/atelier-de-poesie-avec-zingonia-zingone/
LOCATION:Médiathèque Elsa Triolet\, 18 Rue Pierre Avit Nicolas\, Salaise sur Sanne\, 38150\, France
CATEGORIES:Médiathèque
ATTACH;FMTTYPE=image/jpeg:https://mairie-salaise-sur-sanne.com//wp-content/webpc-passthru.php?src=https://mairie-salaise-sur-sanne.com/wp-content/uploads/2026/02/poesie_au_fil_des_saisons_magnifique_printemps_atelier_de_poesie_avec_zingonia_zingone_38096891.jpg&amp;nocache=1
END:VEVENT
BEGIN:VEVENT
DTSTART;TZID=UTC:20260321T170000
DTEND;TZID=UTC:20260321T170000
DTSTAMP:20260420T093252
CREATED:20260127T091245Z
LAST-MODIFIED:20260306T120727Z
UID:10905-1774112400-1774112400@mairie-salaise-sur-sanne.com
SUMMARY:Concert : ouverture du Salaise Blues festival 2026 à la médiathèque
DESCRIPTION:Concert gratuit dans le cadre du Salaise Blues Festival 2026 \n  \nOUVERTURE DU FESTIVAL AVEC ANNA BOULIC (harpe et chant) À 17H ACCUEILLIE PAR LA MÉDIATHÈQUE ELSA TRIOLET \nCe sera également l’occasion de découvrir le travail de l’artiste Grégory Aubert en direct live. \nGrégory Aubert\nÀ travers une peinture figurative nourrie par la tradition du clair-obscur\, il explore la présence humaine dans des situations de tension\, d’élan ou de suspension. \nSes grandes compositions cherchent moins à raconter une scène qu’à capter une intensité : celle d’un moment partagé\, d’un souffle collectif\, d’une vibration. La musique influence le rythme de la touche\, la densité de la matière et la circulation des regards. \nLa peinture devient espace sonore\, lieu de résonance. \nIl utilise l’intelligence artificielle comme outil de recherche compositionnelle — une forme contemporaine de camera obscura — intégrée à un processus pictural entièrement assumé. \nLors de cette ouverture du festival\, il prolonge cette recherche en dessinant en direct\, projetant un geste improvisé en dialogue immédiat avec la musique. \n  \n18 Rue Pierre Avit Nicolas \n38150 Salaise sur Sanne
URL:https://mairie-salaise-sur-sanne.com/evenement/concert-ouverture-du-salaise-blues-festival-2026-a-la-mediatheque/
LOCATION:Médiathèque Elsa Triolet\, 18 Rue Pierre Avit Nicolas\, Salaise sur Sanne\, 38150\, France
CATEGORIES:Médiathèque,SalaiseBluesFestival
ATTACH;FMTTYPE=image/jpeg:https://mairie-salaise-sur-sanne.com//wp-content/webpc-passthru.php?src=https://mairie-salaise-sur-sanne.com/wp-content/uploads/2026/01/InstaSBF-20264.jpg&amp;nocache=1
END:VEVENT
BEGIN:VEVENT
DTSTART;VALUE=DATE:20260328
DTEND;VALUE=DATE:20260329
DTSTAMP:20260420T093252
CREATED:20260127T091430Z
LAST-MODIFIED:20260319T093950Z
UID:10909-1774656000-1774742399@mairie-salaise-sur-sanne.com
SUMMARY:Salaise Blues festival 2026 : DU BLUES À LA MÉDIATHÈQUE 
DESCRIPTION:SAMEDI 28 MARS  \nMédiathèque Elsa Triolet – Salaise sur Sanne \n  \n15h : Enregistrement d’une émission musicale Blues Actu Radio : enregistrée en direct live\, cette émission sera ponctuée de virgules musicales  avec Théo Charaf\, Charles Pasi et Manouche Fournier. Elle sera installée au centre de la médiathèque et sera ouverte au public qui souhaite être présent. Elle serait ensuite diffusée sur le site de bluesactu.com. \n  \n17 h:  Conférence musicale par Manouche Fournier : musicien et chercheur\, Manouche fournier propose une conférence avec l’idée de « comprendre « avec ses oreilles » en quoi le blues est fondateur dans la culture noire américaine et en quoi il en sous-tend l’essentiel des musiques\, jusqu’au Hip Hop. Le tout sans oublier la Nouvelle Orléans où on a inventé… la batterie. » Pour cela\, il utilise ses guitares\, sa voix ainsi que des images d’archive\, des extraits audio et vidéo…
URL:https://mairie-salaise-sur-sanne.com/evenement/salaise-blues-festival-2026-du-blues-a-la-mediatheque/
LOCATION:Médiathèque Elsa Triolet\, 18 Rue Pierre Avit Nicolas\, Salaise sur Sanne\, 38150\, France
CATEGORIES:Médiathèque,SalaiseBluesFestival
ATTACH;FMTTYPE=image/jpeg:https://mairie-salaise-sur-sanne.com//wp-content/webpc-passthru.php?src=https://mairie-salaise-sur-sanne.com/wp-content/uploads/2026/01/InstaSBF-20268.jpg&amp;nocache=1
END:VEVENT
END:VCALENDAR