BEGIN:VCALENDAR
VERSION:2.0
PRODID:-//Mairie Salaise sur Sanne - ECPv6.15.20//NONSGML v1.0//EN
CALSCALE:GREGORIAN
METHOD:PUBLISH
X-WR-CALNAME:Mairie Salaise sur Sanne
X-ORIGINAL-URL:https://mairie-salaise-sur-sanne.com
X-WR-CALDESC:Évènements pour Mairie Salaise sur Sanne
REFRESH-INTERVAL;VALUE=DURATION:PT1H
X-Robots-Tag:noindex
X-PUBLISHED-TTL:PT1H
BEGIN:VTIMEZONE
TZID:UTC
BEGIN:STANDARD
TZOFFSETFROM:+0000
TZOFFSETTO:+0000
TZNAME:UTC
DTSTART:20250101T000000
END:STANDARD
END:VTIMEZONE
BEGIN:VEVENT
DTSTART;VALUE=DATE:20260315
DTEND;VALUE=DATE:20260316
DTSTAMP:20260421T093521
CREATED:20250904T082217Z
LAST-MODIFIED:20260223T140407Z
UID:10211-1773532800-1773619199@mairie-salaise-sur-sanne.com
SUMMARY:1er tour des élections municipales
DESCRIPTION:Tous les 6 ans\, les Français doivent élire de nouveaux conseillers municipaux. Ceux-ci élisent ensuite le maire de leur commune. Les prochaines élections municipales se dérouleront le 15 mars 2026. \nOù voter ? \nLa commune de Salaise-sur-Sanne est divisée en 4 bureaux de vote : \n\n3 bureaux de vote (1\,3 et 4) à l’école Floréal\, dans la salle de restauration.\nBureau de vote 2 au groupe scolaire Joliot Curie\, dans la salle de restauration également.\n\nLes bureaux de vote sont ouverts de 8 à 18h. \nSi vous prévoyez d’être absent le jour du vote\, vous pouvez faire voter une personne de confiance à votre place. Il suffit de faire votre demande en ligne sur le site Maprocuration puis de faire vérifier votre identité\, en vous déplaçant au commissariat ou en gendarmerie. \nQuels documents dois-je apporter au bureau de vote ? \nPour voter\, vous devez vous munir d’une pièce d’identité et de votre carte électorale. Vous pouvez voter seulement avec votre pièce d’identité si vous n’avez pas votre carte électorale. \nPour ceux qui se sont inscrits : \n\naprès le 7 juillet 2024 (2ème tour des élections législatives)\,\nqui ont atteint l’âge de 18 ans après cette date\,\nqui auront 18 ans avant le 14 mars 2026\n\nSi vous êtes dans l’un de ces cas\, vous recevrez votre carte électorale dans quelques jours.
URL:https://mairie-salaise-sur-sanne.com/evenement/1er-tour-des-elections-municipales/
CATEGORIES:Elections
ATTACH;FMTTYPE=image/jpeg:https://mairie-salaise-sur-sanne.com//wp-content/webpc-passthru.php?src=https://mairie-salaise-sur-sanne.com/wp-content/uploads/2021/08/cropped-vote.jpg&amp;nocache=1
END:VEVENT
END:VCALENDAR