BEGIN:VCALENDAR
VERSION:2.0
PRODID:-//Mairie Salaise sur Sanne - ECPv6.15.20//NONSGML v1.0//EN
CALSCALE:GREGORIAN
METHOD:PUBLISH
X-ORIGINAL-URL:https://mairie-salaise-sur-sanne.com
X-WR-CALDESC:Évènements pour Mairie Salaise sur Sanne
REFRESH-INTERVAL;VALUE=DURATION:PT1H
X-Robots-Tag:noindex
X-PUBLISHED-TTL:PT1H
BEGIN:VTIMEZONE
TZID:UTC
BEGIN:STANDARD
TZOFFSETFROM:+0000
TZOFFSETTO:+0000
TZNAME:UTC
DTSTART:20250101T000000
END:STANDARD
END:VTIMEZONE
BEGIN:VEVENT
DTSTART;VALUE=DATE:20261016
DTEND;VALUE=DATE:20261026
DTSTAMP:20260422T200553
CREATED:20260305T090932Z
LAST-MODIFIED:20260305T090932Z
UID:11146-1792108800-1792972799@mairie-salaise-sur-sanne.com
SUMMARY:EXPOSITION : LUMIÈRE\, COULEURS ET EMOTIONS
DESCRIPTION:Découvrez les oeuvres variées des artistes locaux\, du figuratif à l’abstrait\, en passant par des créations intimistes et auda-cieuses. Sous l’égide de leurs professeurs Pierre Mathevon et Jean-Jacques Wambst\, les membres de l’association des peintres de Roussillon Vallée du Rhône vous invitent à explorer leur univers artistique où lumière\, couleurs et émotions se mêlent pour captiver le regard. A dé-couvrir aussi : des sculptures qui viendront enrichir cette explora-tion. \nDu 16 au 25 octobre de 13h30 à 18h30  \nVernissage vendredi 16 octobre à 18h  \nEntrée gratuite
URL:https://mairie-salaise-sur-sanne.com/evenement/exposition-lumiere-couleurs-et-emotions/
LOCATION:Prieuré de Salaise sur Sanne\, Chemin du Châtet\, Salaise sur Sanne\, 38150
CATEGORIES:Prieuré
ATTACH;FMTTYPE=image/jpeg:https://mairie-salaise-sur-sanne.com//wp-content/webpc-passthru.php?src=https://mairie-salaise-sur-sanne.com/wp-content/uploads/2026/03/Insta-Programme-Prieure-202623.jpg&amp;nocache=1
END:VEVENT
END:VCALENDAR