BEGIN:VCALENDAR
VERSION:2.0
PRODID:-//Mairie Salaise sur Sanne - ECPv6.15.20//NONSGML v1.0//EN
CALSCALE:GREGORIAN
METHOD:PUBLISH
X-WR-CALNAME:Mairie Salaise sur Sanne
X-ORIGINAL-URL:https://mairie-salaise-sur-sanne.com
X-WR-CALDESC:Évènements pour Mairie Salaise sur Sanne
REFRESH-INTERVAL;VALUE=DURATION:PT1H
X-Robots-Tag:noindex
X-PUBLISHED-TTL:PT1H
BEGIN:VTIMEZONE
TZID:UTC
BEGIN:STANDARD
TZOFFSETFROM:+0000
TZOFFSETTO:+0000
TZNAME:UTC
DTSTART:20250101T000000
END:STANDARD
END:VTIMEZONE
BEGIN:VEVENT
DTSTART;VALUE=DATE:20260924
DTEND;VALUE=DATE:20261001
DTSTAMP:20260422T200447
CREATED:20260305T090036Z
LAST-MODIFIED:20260316T084113Z
UID:11139-1790208000-1790812799@mairie-salaise-sur-sanne.com
SUMMARY:EXPOSITION  : POÉSIE DU VIVANT
DESCRIPTION:Ce collectif d’artistes* célèbre le vivant\, sa force et sa fragilité\, sa diversité et sa poésie. Leurs créations -sculptures\, peintures\, aquarelles\, dessins et photographies- se conjuguent et se déploient dans l’écrin majestueux du prieuré pour offrir aux visiteurs un parcours sensible au coeur du vivant : le règne animal\, le règne végétal et l’être humain. \n*Jean-Jacques Bertin\, Romain Bresson\, Bétina Broussaud\, Sylvie Clément\, Mariana Da Fonseca\, Ghislaine Dagorne\, Cathy Lachouque\, Yves Ogier\, Alexandra Reyes\, Franck Rollier\, Marie Sand. \nDu 24 au 30 septembre de 14h à 18h \nPrésentations et animations à partir de 15h \nVernissage samedi à 11h30 \nEntrée gratuite
URL:https://mairie-salaise-sur-sanne.com/evenement/exposition-poesie-du-vivant/
LOCATION:Prieuré de Salaise sur Sanne\, Chemin du Châtet\, Salaise sur Sanne\, 38150
CATEGORIES:Prieuré
ATTACH;FMTTYPE=image/jpeg:https://mairie-salaise-sur-sanne.com//wp-content/webpc-passthru.php?src=https://mairie-salaise-sur-sanne.com/wp-content/uploads/2026/03/Insta-Programme-Prieure-202620.jpg&amp;nocache=1
END:VEVENT
BEGIN:VEVENT
DTSTART;TZID=UTC:20260924T183000
DTEND;TZID=UTC:20260924T183000
DTSTAMP:20260422T200447
CREATED:20260326T100208Z
LAST-MODIFIED:20260326T102107Z
UID:11446-1790274600-1790274600@mairie-salaise-sur-sanne.com
SUMMARY:Conseil municipal
DESCRIPTION:Séance ouverte au public
URL:https://mairie-salaise-sur-sanne.com/evenement/conseil-municipal-8/
LOCATION:Mairie de Salaise sur Sanne\, 19. rue Pierre Avit Nicolas\, Salaise sur Sanne\, 38150
ATTACH;FMTTYPE=image/png:https://mairie-salaise-sur-sanne.com//wp-content/webpc-passthru.php?src=https://mairie-salaise-sur-sanne.com/wp-content/uploads/2023/11/MairieSalaise.png&amp;nocache=1
END:VEVENT
END:VCALENDAR