BEGIN:VCALENDAR
VERSION:2.0
PRODID:-//Mairie Salaise sur Sanne - ECPv6.15.20//NONSGML v1.0//EN
CALSCALE:GREGORIAN
METHOD:PUBLISH
X-ORIGINAL-URL:https://mairie-salaise-sur-sanne.com
X-WR-CALDESC:Évènements pour Mairie Salaise sur Sanne
REFRESH-INTERVAL;VALUE=DURATION:PT1H
X-Robots-Tag:noindex
X-PUBLISHED-TTL:PT1H
BEGIN:VTIMEZONE
TZID:UTC
BEGIN:STANDARD
TZOFFSETFROM:+0000
TZOFFSETTO:+0000
TZNAME:UTC
DTSTART:20250101T000000
END:STANDARD
END:VTIMEZONE
BEGIN:VEVENT
DTSTART;VALUE=DATE:20260916
DTEND;VALUE=DATE:20260921
DTSTAMP:20260424T101141
CREATED:20260305T085732Z
LAST-MODIFIED:20260305T085732Z
UID:11135-1789516800-1789948799@mairie-salaise-sur-sanne.com
SUMMARY:EXPOSITION : KLĒRODOTĒMA
DESCRIPTION:« Klérodotéma (signifiant héri-tage en devenir en grec) explore ce qui nous est transmis et ce que nous transformons »\, selon l’artiste céramiste Anaïs Dezar-naud. À travers une installation de céramique contemporaine inspirée de l’héritage gallo-romain et de la Méditerranée\, l’exposition invite à un voyage sensible entre passé et devenir\, au coeur du prieuré. Ateliers de modelage pour adultes et jeune public\, expériences immersives notamment culinaire rythmeront la programmation. \nDu 16 au 20 septembre  \nMardi vernissage 17h/20h\, merc 10h/18h\, jeudi 14h/19h\, vend 14h/18h\, sam & dim 10h/19h  \nEntrée gratuite \nAteliers modelage et expérience culinaire avec participation\, sur réservation : anaisdezarnaud@gmail.com
URL:https://mairie-salaise-sur-sanne.com/evenement/exposition-klerodotema/
LOCATION:Prieuré de Salaise sur Sanne\, Chemin du Châtet\, Salaise sur Sanne\, 38150
CATEGORIES:Prieuré
ATTACH;FMTTYPE=image/jpeg:https://mairie-salaise-sur-sanne.com//wp-content/webpc-passthru.php?src=https://mairie-salaise-sur-sanne.com/wp-content/uploads/2026/03/Insta-Programme-Prieure-202618.jpg&amp;nocache=1
END:VEVENT
BEGIN:VEVENT
DTSTART;VALUE=DATE:20260919
DTEND;VALUE=DATE:20260921
DTSTAMP:20260424T101141
CREATED:20260305T085918Z
LAST-MODIFIED:20260305T085918Z
UID:11137-1789776000-1789948799@mairie-salaise-sur-sanne.com
SUMMARY:VISITE  : JOURNÉES DU PATRIMOINE
DESCRIPTION:À l’occasion des journées européennes du patrimoine\, la commission culturelle de Salaise-sur-Sanne invite l’association de l’Édit de Roussillon à animer les visites commentées du prieuré\, de la maison du prieur et son jardin. Cet ancien prieuré dont le choeur et la crypte sont classés au titre des monuments historiques\, a été remarquablement restauré dans un environnement verdoyant à proximité de la Sanne.  \nSamedi 19 & dimanche 20 septembre  \nVisite libre 14h/18h  \nVisite guidée à 14h et à 16h  \nEntrée gratuite
URL:https://mairie-salaise-sur-sanne.com/evenement/visite-journees-du-patrimoine/
LOCATION:Prieuré de Salaise sur Sanne\, Chemin du Châtet\, Salaise sur Sanne\, 38150
CATEGORIES:Prieuré
ATTACH;FMTTYPE=image/jpeg:https://mairie-salaise-sur-sanne.com//wp-content/webpc-passthru.php?src=https://mairie-salaise-sur-sanne.com/wp-content/uploads/2026/03/Insta-Programme-Prieure-202619.jpg&amp;nocache=1
END:VEVENT
END:VCALENDAR