BEGIN:VCALENDAR
VERSION:2.0
PRODID:-//Mairie Salaise sur Sanne - ECPv6.15.20//NONSGML v1.0//EN
CALSCALE:GREGORIAN
METHOD:PUBLISH
X-WR-CALNAME:Mairie Salaise sur Sanne
X-ORIGINAL-URL:https://mairie-salaise-sur-sanne.com
X-WR-CALDESC:Évènements pour Mairie Salaise sur Sanne
REFRESH-INTERVAL;VALUE=DURATION:PT1H
X-Robots-Tag:noindex
X-PUBLISHED-TTL:PT1H
BEGIN:VTIMEZONE
TZID:UTC
BEGIN:STANDARD
TZOFFSETFROM:+0000
TZOFFSETTO:+0000
TZNAME:UTC
DTSTART:20250101T000000
END:STANDARD
END:VTIMEZONE
BEGIN:VEVENT
DTSTART;VALUE=DATE:20260911
DTEND;VALUE=DATE:20260913
DTSTAMP:20260422T200537
CREATED:20260305T085547Z
LAST-MODIFIED:20260305T085547Z
UID:11133-1789084800-1789257599@mairie-salaise-sur-sanne.com
SUMMARY:CONCERT  : TRIO ARAUCA
DESCRIPTION:Deux ans après\, le duo Arauca revient jouer au prieuré\, mais cette fois-ci en formation trio. Shaïna Cohen (violon) et Joslava Rodriguez Cohen (violoncelle) accueillent ainsi Jonathan Cohen au piano. Cette famille de musiciens propose un répertoire varié allant de la musique baroque et classique au tango argentin en passant par la musique vénézuélienne. Bach\, Dvorak\, Ysaye\, Piazzolla sont au programme de ce concert riche en émotions. \nSamedi 11 & dimanche 12 septembre à 20h \nTarif 12€
URL:https://mairie-salaise-sur-sanne.com/evenement/concert-trio-arauca/
LOCATION:Prieuré de Salaise sur Sanne\, Chemin du Châtet\, Salaise sur Sanne\, 38150
CATEGORIES:Prieuré
ATTACH;FMTTYPE=image/jpeg:https://mairie-salaise-sur-sanne.com//wp-content/webpc-passthru.php?src=https://mairie-salaise-sur-sanne.com/wp-content/uploads/2026/03/Insta-Programme-Prieure-202617.jpg&amp;nocache=1
END:VEVENT
END:VCALENDAR