BEGIN:VCALENDAR
VERSION:2.0
PRODID:-//Mairie Salaise sur Sanne - ECPv6.15.20//NONSGML v1.0//EN
CALSCALE:GREGORIAN
METHOD:PUBLISH
X-ORIGINAL-URL:https://mairie-salaise-sur-sanne.com
X-WR-CALDESC:Évènements pour Mairie Salaise sur Sanne
REFRESH-INTERVAL;VALUE=DURATION:PT1H
X-Robots-Tag:noindex
X-PUBLISHED-TTL:PT1H
BEGIN:VTIMEZONE
TZID:UTC
BEGIN:STANDARD
TZOFFSETFROM:+0000
TZOFFSETTO:+0000
TZNAME:UTC
DTSTART:20250101T000000
END:STANDARD
END:VTIMEZONE
BEGIN:VEVENT
DTSTART;VALUE=DATE:20260712
DTEND;VALUE=DATE:20260713
DTSTAMP:20260422T163447
CREATED:20260205T074116Z
LAST-MODIFIED:20260305T085202Z
UID:10975-1783814400-1783900799@mairie-salaise-sur-sanne.com
SUMMARY:VISITE : RANDONNÉE ET HISTOIRE DU PRIEURÉ
DESCRIPTION:Dimanche 12 juillet dès 9h15 \n[ 14.5 km – dénivelé 145 m ] \nAutour de Salaise-sur-Sanne\, parcourez les lieux qui ont marqué l’histoire de la ville\, faites une pause pique-nique au prieuré puis poursuivez avec une visite guidée du site. \nRandonnée gratuite – Inscription à partir du 1er juillet : \nEn ligne sur tourisme.entre-bievreetrhone.fr \nConditions générales de vente sur reservation.tourisme-entre-bievreetrhone.fr \nPar téléphone au 04 74 86 72 07 ou 04 74 84 68 84 \nPar mail à l’adresse tourisme@entrebievreetrhone.fr \nSur place dans les bureaux d’information touristique
URL:https://mairie-salaise-sur-sanne.com/evenement/randonnee-salaise-sur-sanne-et-son-histoire/
LOCATION:Prieuré de Salaise sur Sanne\, Chemin du Châtet\, Salaise sur Sanne\, 38150
CATEGORIES:Prieuré
ATTACH;FMTTYPE=image/jpeg:https://mairie-salaise-sur-sanne.com//wp-content/webpc-passthru.php?src=https://mairie-salaise-sur-sanne.com/wp-content/uploads/2026/03/Insta-Programme-Prieure-202614.jpg&amp;nocache=1
END:VEVENT
END:VCALENDAR