BEGIN:VCALENDAR
VERSION:2.0
PRODID:-//Mairie Salaise sur Sanne - ECPv6.15.20//NONSGML v1.0//EN
CALSCALE:GREGORIAN
METHOD:PUBLISH
X-WR-CALNAME:Mairie Salaise sur Sanne
X-ORIGINAL-URL:https://mairie-salaise-sur-sanne.com
X-WR-CALDESC:Évènements pour Mairie Salaise sur Sanne
REFRESH-INTERVAL;VALUE=DURATION:PT1H
X-Robots-Tag:noindex
X-PUBLISHED-TTL:PT1H
BEGIN:VTIMEZONE
TZID:UTC
BEGIN:STANDARD
TZOFFSETFROM:+0000
TZOFFSETTO:+0000
TZNAME:UTC
DTSTART:20250101T000000
END:STANDARD
END:VTIMEZONE
BEGIN:VEVENT
DTSTART;VALUE=DATE:20260603
DTEND;VALUE=DATE:20260704
DTSTAMP:20260424T092138
CREATED:20260327T091844Z
LAST-MODIFIED:20260420T112733Z
UID:11465-1780444800-1783123199@mairie-salaise-sur-sanne.com
SUMMARY:Expo photos : zoom sur  la biodiversité à Salaise
DESCRIPTION:Du 3 juin au 3 juillet à la médiathèque Elsa Triolet de Salaise sur Sanne \nL’Atlas de la biodiversité en photos\, en partenariat avec le photoclub salaisien.
URL:https://mairie-salaise-sur-sanne.com/evenement/exposition-photos-sur-la-biodiversite/
LOCATION:Médiathèque Elsa Triolet\, 18 Rue Pierre Avit Nicolas\, Salaise sur Sanne\, 38150\, France
CATEGORIES:ABC,Médiathèque
ATTACH;FMTTYPE=image/jpeg:https://mairie-salaise-sur-sanne.com//wp-content/webpc-passthru.php?src=https://mairie-salaise-sur-sanne.com/wp-content/uploads/2026/03/Insta-ExpoPhotosMedi.jpg&amp;nocache=1
ORGANIZER;CN="Photo Club Salaisien":MAILTO:https://photoclubsalaise.wixsite.com/photoclub
END:VEVENT
BEGIN:VEVENT
DTSTART;TZID=UTC:20260614T060000
DTEND;TZID=UTC:20260614T170000
DTSTAMP:20260424T092138
CREATED:20260305T080514Z
LAST-MODIFIED:20260305T080514Z
UID:11078-1781416800-1781456400@mairie-salaise-sur-sanne.com
SUMMARY:Vide grenier du SOU des écoles
DESCRIPTION:Proposé par le Sou des écoles Joliot Curie \nDIMANCHE 14 JUIN 2026 de 6h00 à 17h00 \nGymnase Joliot Curie à Salaise sur Sanne \nEmplacement 3€/M \nBuvette et Snack \nRéservations et infos : soujoliotcuriesalaise@gmail.com \nRéservation non obligatoire
URL:https://mairie-salaise-sur-sanne.com/evenement/vide-grenier-du-sou-des-ecoles/
LOCATION:Gymnase Joliot Curie\, Impasse du Renivet\, Salaise sur Sanne\, 38150
ATTACH;FMTTYPE=image/jpeg:https://mairie-salaise-sur-sanne.com//wp-content/webpc-passthru.php?src=https://mairie-salaise-sur-sanne.com/wp-content/uploads/2026/03/260615-Bocante-Sou-Joliot-Curie.jpg&amp;nocache=1
ORGANIZER;CN="Sou des %C3%A9coles Joliot Curie":MAILTO:soujoliotcuriesalaise@gmail.com
END:VEVENT
BEGIN:VEVENT
DTSTART;TZID=UTC:20260614T170000
DTEND;TZID=UTC:20260614T190000
DTSTAMP:20260424T092138
CREATED:20260305T084028Z
LAST-MODIFIED:20260305T084028Z
UID:11117-1781456400-1781463600@mairie-salaise-sur-sanne.com
SUMMARY:CONCERT : VOYAGE EN CHANSONS
DESCRIPTION:L’ensemble vocal Phonie Mania\, attaché à la chanson française\, vous promet un concert enchan-teur et un moment riche en émo-tions. Un véritable voyage en chansons à travers les années 70 jusqu’à nos jours. Les chan-sons sont revisitées par Jonathan Cohen qui dirige et accompagne au piano une trentaine de cho-ristes. Dimanche 14 juin à 17h  \nTarif 12€  \nRéservation 06 88 07 09 22 ou 06 10 25 83 23
URL:https://mairie-salaise-sur-sanne.com/evenement/concert-voyage-en-chansons/
LOCATION:Prieuré de Salaise sur Sanne\, Chemin du Châtet\, Salaise sur Sanne\, 38150
CATEGORIES:Prieuré
ATTACH;FMTTYPE=image/jpeg:https://mairie-salaise-sur-sanne.com//wp-content/webpc-passthru.php?src=https://mairie-salaise-sur-sanne.com/wp-content/uploads/2026/03/Insta-Programme-Prieure-20269.jpg&amp;nocache=1
END:VEVENT
END:VCALENDAR