BEGIN:VCALENDAR
VERSION:2.0
PRODID:-//Mairie Salaise sur Sanne - ECPv6.15.20//NONSGML v1.0//EN
CALSCALE:GREGORIAN
METHOD:PUBLISH
X-WR-CALNAME:Mairie Salaise sur Sanne
X-ORIGINAL-URL:https://mairie-salaise-sur-sanne.com
X-WR-CALDESC:Évènements pour Mairie Salaise sur Sanne
REFRESH-INTERVAL;VALUE=DURATION:PT1H
X-Robots-Tag:noindex
X-PUBLISHED-TTL:PT1H
BEGIN:VTIMEZONE
TZID:UTC
BEGIN:STANDARD
TZOFFSETFROM:+0000
TZOFFSETTO:+0000
TZNAME:UTC
DTSTART:20250101T000000
END:STANDARD
END:VTIMEZONE
BEGIN:VEVENT
DTSTART;VALUE=DATE:20260502
DTEND;VALUE=DATE:20260518
DTSTAMP:20260422T152120
CREATED:20260305T083341Z
LAST-MODIFIED:20260305T083341Z
UID:11109-1777680000-1779062399@mairie-salaise-sur-sanne.com
SUMMARY:EXPOSITION  : MAINTENANT
DESCRIPTION:« Miroir Face à face Interrogation ; Réflexion Temps perdu Présence ; Répétition Accumulation Caché derrière ; Engrenage Emotion Partage ». Tels sont les mots de Gérard Lyonnet et Jean-Loup Dupin pour décrire leur exposition d’art contemporain sur le thème du temps. \nDu 2 au 17 mai de 14h30 à 18h \nVernissage le 2 mai à 18h \nPrieuré de Salaise sur Sanne \nEntrée gratuite
URL:https://mairie-salaise-sur-sanne.com/evenement/exposition-maintenant/
LOCATION:Prieuré de Salaise sur Sanne\, Chemin du Châtet\, Salaise sur Sanne\, 38150
CATEGORIES:Prieuré
ATTACH;FMTTYPE=image/jpeg:https://mairie-salaise-sur-sanne.com//wp-content/webpc-passthru.php?src=https://mairie-salaise-sur-sanne.com/wp-content/uploads/2026/03/Insta-Programme-Prieure-20265.jpg&amp;nocache=1
END:VEVENT
BEGIN:VEVENT
DTSTART;TZID=UTC:20260510T080000
DTEND;TZID=UTC:20260510T170000
DTSTAMP:20260422T152120
CREATED:20260420T064138Z
LAST-MODIFIED:20260420T064138Z
UID:11621-1778400000-1778432400@mairie-salaise-sur-sanne.com
SUMMARY:28ème marche de l'espoir
DESCRIPTION:organisée par l’association Espoir Isère contre le Cancer Antenne de Roussillon \nRandonnée pédestre \ntraversant 4 communes \n4 parcours – 4\, 8\, 14\, 20 kms \nVILLE-SOUS-ANJOU –ST ROMAIN DE SURIEU SONNAY -ANJOU \nInscription sur place SALLE EMILE ROMANET \nDépart de 8h30 à 14h : 4 et 8 km \n8h30 à11h30: 14km \n8h30 à 10h30: 20Km \nMerci d’apporter votre gobelet
URL:https://mairie-salaise-sur-sanne.com/evenement/28eme-marche-de-lespoir/
LOCATION:Salle Emile Romanet\, Ville sous Anjou\, France
ATTACH;FMTTYPE=image/png:https://mairie-salaise-sur-sanne.com//wp-content/webpc-passthru.php?src=https://mairie-salaise-sur-sanne.com/wp-content/uploads/2026/04/Marche-de-lespoir.png&amp;nocache=1
END:VEVENT
END:VCALENDAR