BEGIN:VCALENDAR
VERSION:2.0
PRODID:-//Mairie Salaise sur Sanne - ECPv6.15.20//NONSGML v1.0//EN
CALSCALE:GREGORIAN
METHOD:PUBLISH
X-WR-CALNAME:Mairie Salaise sur Sanne
X-ORIGINAL-URL:https://mairie-salaise-sur-sanne.com
X-WR-CALDESC:Évènements pour Mairie Salaise sur Sanne
REFRESH-INTERVAL;VALUE=DURATION:PT1H
X-Robots-Tag:noindex
X-PUBLISHED-TTL:PT1H
BEGIN:VTIMEZONE
TZID:UTC
BEGIN:STANDARD
TZOFFSETFROM:+0000
TZOFFSETTO:+0000
TZNAME:UTC
DTSTART:20250101T000000
END:STANDARD
END:VTIMEZONE
BEGIN:VEVENT
DTSTART;TZID=UTC:20260426T150000
DTEND;TZID=UTC:20260426T170000
DTSTAMP:20260424T105610
CREATED:20260305T083051Z
LAST-MODIFIED:20260305T083051Z
UID:11107-1777215600-1777222800@mairie-salaise-sur-sanne.com
SUMMARY:CONCERT   : LES ALLÉES CHANTENT
DESCRIPTION:Pour la 5ème fois\, la commune de Salaise-sur-Sanne a le grand plaisir d’accueillir un concert des Allées Chantent\, dispositif du Département de l’Isère porté par l’établissement Arts en Isère Dauphiné Alpes (AIDA). « Convergence » est un voyage musical et narratif en compagnie de deux musiciens. Chaïma Gaddour (kanoun ou cithare sur table) et Samih Souissi (violoncelle) font dialoguer leurs instruments de l’Orient et de l’Occident\, entre héritage et modernité\, dans une danse sonore imprévisible. \nDimanche 26 avril à 15h \nEntrée gratuite
URL:https://mairie-salaise-sur-sanne.com/evenement/concert-les-allees-chantent/
LOCATION:Prieuré de Salaise sur Sanne\, Chemin du Châtet\, Salaise sur Sanne\, 38150
CATEGORIES:Prieuré
ATTACH;FMTTYPE=image/jpeg:https://mairie-salaise-sur-sanne.com//wp-content/webpc-passthru.php?src=https://mairie-salaise-sur-sanne.com/wp-content/uploads/2026/03/Insta-Programme-Prieure-20264.jpg&amp;nocache=1
END:VEVENT
END:VCALENDAR