BEGIN:VCALENDAR
VERSION:2.0
PRODID:-//Mairie Salaise sur Sanne - ECPv6.15.20//NONSGML v1.0//EN
CALSCALE:GREGORIAN
METHOD:PUBLISH
X-WR-CALNAME:Mairie Salaise sur Sanne
X-ORIGINAL-URL:https://mairie-salaise-sur-sanne.com
X-WR-CALDESC:Évènements pour Mairie Salaise sur Sanne
REFRESH-INTERVAL;VALUE=DURATION:PT1H
X-Robots-Tag:noindex
X-PUBLISHED-TTL:PT1H
BEGIN:VTIMEZONE
TZID:UTC
BEGIN:STANDARD
TZOFFSETFROM:+0000
TZOFFSETTO:+0000
TZNAME:UTC
DTSTART:20250101T000000
END:STANDARD
END:VTIMEZONE
BEGIN:VEVENT
DTSTART;TZID=UTC:20260425T100000
DTEND;TZID=UTC:20260425T120000
DTSTAMP:20260422T122637
CREATED:20260316T120627Z
LAST-MODIFIED:20260319T151531Z
UID:11214-1777111200-1777118400@mairie-salaise-sur-sanne.com
SUMMARY:Sortie découverte : les amphibiens
DESCRIPTION:Samedi 25 avril\, partez à la découverte de la faune de l’Espace Naturel Sensible du Lac Jacob à Salaise sur Sanne. \nDes naturalistes vous apprendront à identifier les différentes espèces qui peuplent cet espace unique sur notre territoire\, à reconnaître leur chant\, tout en sensibilisant à leur protection : tritons\, grenouille verte\, grenouille agile… \n\nInfos pratiques\nSamedi 25 avril 2026 de 10 à 12h\nMatériel nécessaire : prévoir des bottes\nDépart : parking des serres du Grand Lan\, 81 rue Lac Jacob à Salaise sur Sanne\nSortie gratuite\, accessible dès 10 ans\n\nInscription en ligne obligatoire en cliquant ici
URL:https://mairie-salaise-sur-sanne.com/evenement/sortie-decouverte-les-amphibiens/
LOCATION:Serres du Grand Lan\, 91 rue du Lac Jacob\, Salaise sur Sanne\, France
ATTACH;FMTTYPE=image/jpeg:https://mairie-salaise-sur-sanne.com//wp-content/webpc-passthru.php?src=https://mairie-salaise-sur-sanne.com/wp-content/uploads/2026/03/Insta-sortie-decouverte-amphibiens.jpg&amp;nocache=1
END:VEVENT
BEGIN:VEVENT
DTSTART;TZID=UTC:20260425T120000
DTEND;TZID=UTC:20260425T170000
DTSTAMP:20260422T122637
CREATED:20260309T092726Z
LAST-MODIFIED:20260319T085915Z
UID:11177-1777118400-1777136400@mairie-salaise-sur-sanne.com
SUMMARY:Défis en famille
DESCRIPTION:Proposé par le Conseil municipal d’enfants \nSamedi 25 avril au Parc de Salaise sur Sanne \nUne après-midi de défis sportifs et ludiques\, à faire en famille ! \nA midi\, pique-nique partagé et début des jeux à 13h30. \nLes enfants sont sous la responsabilité de leurs parents
URL:https://mairie-salaise-sur-sanne.com/evenement/defis-en-famille/
LOCATION:Parc municipal de Salaise sur Sanne\, Rue Du 11 Novembre 1918\, Salaise sur Sanne\, 38150
CATEGORIES:CME
ATTACH;FMTTYPE=image/jpeg:https://mairie-salaise-sur-sanne.com//wp-content/webpc-passthru.php?src=https://mairie-salaise-sur-sanne.com/wp-content/uploads/2026/03/Affiche-Defis-en-famille.jpg&amp;nocache=1
END:VEVENT
BEGIN:VEVENT
DTSTART;TZID=UTC:20260425T180000
DTEND;TZID=UTC:20260425T193000
DTSTAMP:20260422T122637
CREATED:20260413T063948Z
LAST-MODIFIED:20260413T063948Z
UID:11553-1777140000-1777145400@mairie-salaise-sur-sanne.com
SUMMARY:Concert caritatif de l'UMS
DESCRIPTION:Concert au profit de l’association « Amélie Tout schuss »\nSamedi 25 avril à 18h au Foyer Gaston Beyle à Chanas \nPrésenté par l’Union Musicale de Salaise et l’Harmonie « Rose des Vents »\, sous la direction de Mireille Lambert\, Valentin Gaillard et Vincent Dumas. \nParticipation libre – Entrée gratuite
URL:https://mairie-salaise-sur-sanne.com/evenement/concert-caritatif-de-lums/
LOCATION:Foyer Gaston Beyle\, Chanas
ATTACH;FMTTYPE=image/png:https://mairie-salaise-sur-sanne.com//wp-content/webpc-passthru.php?src=https://mairie-salaise-sur-sanne.com/wp-content/uploads/2026/04/Affiche-concert-25042026.png&amp;nocache=1
END:VEVENT
BEGIN:VEVENT
DTSTART;TZID=UTC:20260425T190000
DTEND;TZID=UTC:20260425T190000
DTSTAMP:20260422T122637
CREATED:20260409T063301Z
LAST-MODIFIED:20260409T063317Z
UID:11546-1777143600-1777143600@mairie-salaise-sur-sanne.com
SUMMARY:Bal du Rhodia
DESCRIPTION:Samedi 25 avril dès 19 h -Foyer Laurent Bouvier\nEntrée : 5€ – Restauration sur place
URL:https://mairie-salaise-sur-sanne.com/evenement/bal-du-rhodia/
LOCATION:Foyer Laurent Bouvier\, Rue Du 11 Novembre 1918\, 38150 Salaise sur Sanne\, France
ATTACH;FMTTYPE=image/jpeg:https://mairie-salaise-sur-sanne.com//wp-content/webpc-passthru.php?src=https://mairie-salaise-sur-sanne.com/wp-content/uploads/2026/04/IMG_2837.jpeg&amp;nocache=1
END:VEVENT
END:VCALENDAR