BEGIN:VCALENDAR
VERSION:2.0
PRODID:-//Mairie Salaise sur Sanne - ECPv6.15.20//NONSGML v1.0//EN
CALSCALE:GREGORIAN
METHOD:PUBLISH
X-WR-CALNAME:Mairie Salaise sur Sanne
X-ORIGINAL-URL:https://mairie-salaise-sur-sanne.com
X-WR-CALDESC:Évènements pour Mairie Salaise sur Sanne
REFRESH-INTERVAL;VALUE=DURATION:PT1H
X-Robots-Tag:noindex
X-PUBLISHED-TTL:PT1H
BEGIN:VTIMEZONE
TZID:UTC
BEGIN:STANDARD
TZOFFSETFROM:+0000
TZOFFSETTO:+0000
TZNAME:UTC
DTSTART:20250101T000000
END:STANDARD
END:VTIMEZONE
BEGIN:VEVENT
DTSTART;VALUE=DATE:20260411
DTEND;VALUE=DATE:20260413
DTSTAMP:20260424T105611
CREATED:20260305T082731Z
LAST-MODIFIED:20260306T120306Z
UID:11081-1775865600-1776038399@mairie-salaise-sur-sanne.com
SUMMARY:CONFÉRENCE  : LES BIENFAITS DE L’EAU
DESCRIPTION:CONFÉRENCE \nLES BIENFAITS DE L’EAU \nFace aux bouleversements climatiques\, l’eau s’impose comme une ressource essentielle à la vie et à la santé. L’université des vins et d’analyses sensorielles organise un temps de rencontres entre différents acteurs autour des usages et des bienfaits de l’eau. Au programme : conférences\, séance de relaxation sur les bords de la Sanne\, dégustation d’eau accompagnée de thé et de café\, médecine traditionnelle chinoise (RDV individuel sur inscription : 06 29 14 30 45). \nSamedi 11 & dimanche 12 avril de 9h à 18h \nPrieuré de Salaise sur Sanne \nEntrée gratuite
URL:https://mairie-salaise-sur-sanne.com/evenement/conference-les-bienfaits-de-leau/
LOCATION:Prieuré de Salaise sur Sanne\, Chemin du Châtet\, Salaise sur Sanne\, 38150
CATEGORIES:Prieuré
ATTACH;FMTTYPE=image/jpeg:https://mairie-salaise-sur-sanne.com//wp-content/webpc-passthru.php?src=https://mairie-salaise-sur-sanne.com/wp-content/uploads/2026/03/Insta-Programme-Prieure-20262.jpg&amp;nocache=1
END:VEVENT
BEGIN:VEVENT
DTSTART;VALUE=DATE:20260412
DTEND;VALUE=DATE:20260413
DTSTAMP:20260424T105611
CREATED:20260302T121824Z
LAST-MODIFIED:20260302T121824Z
UID:11058-1775952000-1776038399@mairie-salaise-sur-sanne.com
SUMMARY:VIDE-GRENIER
DESCRIPTION:DIMANCHE 12 AVRIL de 8h à 17h \nFOYER LAURENT BOUVIER \nSALAISE SUR SANNE \nRESTAURATION SUR PLACE \n4€ la table en intérieur / 2.50€ le mètre en extérieur \nRÉSERVATION uniquement par mail : evenements.rhodiajudo@gmail.com \nInformations : 06 26 58 27 58
URL:https://mairie-salaise-sur-sanne.com/evenement/vide-grenier-2/
LOCATION:Foyer Laurent Bouvier\, Rue Du 11 Novembre 1918\, 38150 Salaise sur Sanne\, France
ATTACH;FMTTYPE=image/png:https://mairie-salaise-sur-sanne.com//wp-content/webpc-passthru.php?src=https://mairie-salaise-sur-sanne.com/wp-content/uploads/2026/03/Affiche-VG-judo-2026.png&amp;nocache=1
END:VEVENT
END:VCALENDAR