BEGIN:VCALENDAR
VERSION:2.0
PRODID:-//Mairie Salaise sur Sanne - ECPv6.15.20//NONSGML v1.0//EN
CALSCALE:GREGORIAN
METHOD:PUBLISH
X-WR-CALNAME:Mairie Salaise sur Sanne
X-ORIGINAL-URL:https://mairie-salaise-sur-sanne.com
X-WR-CALDESC:Évènements pour Mairie Salaise sur Sanne
REFRESH-INTERVAL;VALUE=DURATION:PT1H
X-Robots-Tag:noindex
X-PUBLISHED-TTL:PT1H
BEGIN:VTIMEZONE
TZID:UTC
BEGIN:STANDARD
TZOFFSETFROM:+0000
TZOFFSETTO:+0000
TZNAME:UTC
DTSTART:20250101T000000
END:STANDARD
END:VTIMEZONE
BEGIN:VEVENT
DTSTART;TZID=UTC:20260408T140000
DTEND;TZID=UTC:20260408T160000
DTSTAMP:20260422T134629
CREATED:20260306T100211Z
LAST-MODIFIED:20260316T080237Z
UID:11160-1775656800-1775664000@mairie-salaise-sur-sanne.com
SUMMARY:Atelier storyboard avec Marion Achard
DESCRIPTION:Apprendre à écrire un scénario pour mettre en scène une petite histoire\nDans le cadre du réseau Ecume\nViens participer à un atelier de réalisation d’un storyboard animé par Marion Achard\, scénariste de la BD Quand la Nuit tombe : Lisou (Sélection de la sélection Fun en Bulles 2025 !).\nDe l’idée à la réalisation d’une planche de BD au brouillon afin de développer propos et enjeux liés à une histoire.Mercredi 8 avril 2026 de 14h à 16h.\nGratuit\, sur inscription : 04 74 86 49 52\nSur inscription\, 9-12 ans
URL:https://mairie-salaise-sur-sanne.com/evenement/atelier-storyboard-avec-marion-achard/
LOCATION:Médiathèque Elsa Triolet\, 18 Rue Pierre Avit Nicolas\, Salaise sur Sanne\, 38150\, France
ATTACH;FMTTYPE=image/webp:https://mairie-salaise-sur-sanne.com//wp-content/webpc-passthru.php?src=https://mairie-salaise-sur-sanne.com/wp-content/uploads/2026/03/atelier_storyboard_avec_marion_achard_38323886.jpg&amp;nocache=1.webp
END:VEVENT
END:VCALENDAR