BEGIN:VCALENDAR
VERSION:2.0
PRODID:-//Mairie Salaise sur Sanne - ECPv6.15.20//NONSGML v1.0//EN
CALSCALE:GREGORIAN
METHOD:PUBLISH
X-WR-CALNAME:Mairie Salaise sur Sanne
X-ORIGINAL-URL:https://mairie-salaise-sur-sanne.com
X-WR-CALDESC:Évènements pour Mairie Salaise sur Sanne
REFRESH-INTERVAL;VALUE=DURATION:PT1H
X-Robots-Tag:noindex
X-PUBLISHED-TTL:PT1H
BEGIN:VTIMEZONE
TZID:UTC
BEGIN:STANDARD
TZOFFSETFROM:+0000
TZOFFSETTO:+0000
TZNAME:UTC
DTSTART:20250101T000000
END:STANDARD
END:VTIMEZONE
BEGIN:VEVENT
DTSTART;VALUE=DATE:20260405
DTEND;VALUE=DATE:20260406
DTSTAMP:20260422T122701
CREATED:20260302T074348Z
LAST-MODIFIED:20260302T074348Z
UID:11054-1775347200-1775433599@mairie-salaise-sur-sanne.com
SUMMARY:Vide-grenier
DESCRIPTION:Proposé par l’association Wara 15 \nDimanche 5 avril au Foyer Laurent Bouvier à Salaise sur Sanne \nInfos/réservation : 06 27 05 29 14
URL:https://mairie-salaise-sur-sanne.com/evenement/vide-grenier/
LOCATION:Foyer Laurent Bouvier\, Rue Du 11 Novembre 1918\, 38150 Salaise sur Sanne\, France
ATTACH;FMTTYPE=image/jpeg:https://mairie-salaise-sur-sanne.com//wp-content/webpc-passthru.php?src=https://mairie-salaise-sur-sanne.com/wp-content/uploads/2026/03/260504-Vide-grenier.jpg&amp;nocache=1
END:VEVENT
END:VCALENDAR