BEGIN:VCALENDAR
VERSION:2.0
PRODID:-//Mairie Salaise sur Sanne - ECPv6.15.20//NONSGML v1.0//EN
CALSCALE:GREGORIAN
METHOD:PUBLISH
X-ORIGINAL-URL:https://mairie-salaise-sur-sanne.com
X-WR-CALDESC:Évènements pour Mairie Salaise sur Sanne
REFRESH-INTERVAL;VALUE=DURATION:PT1H
X-Robots-Tag:noindex
X-PUBLISHED-TTL:PT1H
BEGIN:VTIMEZONE
TZID:UTC
BEGIN:STANDARD
TZOFFSETFROM:+0000
TZOFFSETTO:+0000
TZNAME:UTC
DTSTART:20250101T000000
END:STANDARD
END:VTIMEZONE
BEGIN:VEVENT
DTSTART;VALUE=DATE:20260316
DTEND;VALUE=DATE:20260328
DTSTAMP:20260422T134911
CREATED:20260126T132403Z
LAST-MODIFIED:20260227T121334Z
UID:10891-1773619200-1774655999@mairie-salaise-sur-sanne.com
SUMMARY:Sos animaux en détresse : collecte pour la SPA
DESCRIPTION:Du lundi 16 au vendredi 27 mars : Collecte pour la SPA organisée par le Conseil. Municipal d’Enfants \nCollecte à 8h20 et 13h20 tous les jours devant le portail des écoles\, le mercredi 25 mars de 14h à 17h30 en mairie. \nNous avons besoin de : \n\nPâtés\nCroquettes\nCouvertures\nFriandises pour chiens et chats\nJouets
URL:https://mairie-salaise-sur-sanne.com/evenement/sos-animaux-en-detresse-collecte-pour-la-spa/
CATEGORIES:CME
ATTACH;FMTTYPE=image/jpeg:https://mairie-salaise-sur-sanne.com//wp-content/webpc-passthru.php?src=https://mairie-salaise-sur-sanne.com/wp-content/uploads/2026/01/Insta-collecteSPA.jpg&amp;nocache=1
END:VEVENT
BEGIN:VEVENT
DTSTART;TZID=UTC:20260321T103000
DTEND;TZID=UTC:20260321T120000
DTSTAMP:20260422T134911
CREATED:20260319T083624Z
LAST-MODIFIED:20260319T084947Z
UID:11239-1774089000-1774094400@mairie-salaise-sur-sanne.com
SUMMARY:Conseil Municipal
DESCRIPTION:Ordre du jour :  \n\nInstallation au conseil municipal\nElection du maire (art. L 2121-10 et L 2122-8\, al. 2 du CGCT)\nDélibération instituant le nombre d’adjoints\nElection des adjoints (art. L 2121-10 et L 2122-8\, al. 2 du CGCT)\nCharte de l’élu local\nDésignation des conseillers délégués\nDélibération relative au versement des indemnités de fonction\nDélégation du Conseil Municipal au Maire\nRèglement intérieur du conseil municipal – Pour information\nAdoption du procès-verbal du conseil municipal du 5 mars 2026\n\nSéance ouverte au public
URL:https://mairie-salaise-sur-sanne.com/evenement/conseil-municipal-4/
LOCATION:Mairie de Salaise sur Sanne\, 19. rue Pierre Avit Nicolas\, Salaise sur Sanne\, 38150
ATTACH;FMTTYPE=image/png:https://mairie-salaise-sur-sanne.com//wp-content/webpc-passthru.php?src=https://mairie-salaise-sur-sanne.com/wp-content/uploads/2023/11/MairieSalaise.png&amp;nocache=1
END:VEVENT
BEGIN:VEVENT
DTSTART;TZID=UTC:20260321T143000
DTEND;TZID=UTC:20260321T233000
DTSTAMP:20260422T134911
CREATED:20260219T104011Z
LAST-MODIFIED:20260219T104011Z
UID:11027-1774103400-1774135800@mairie-salaise-sur-sanne.com
SUMMARY:GRAND BAL Folk & country
DESCRIPTION:L’association salaisienne Amélie-Tout-Schuss vous propose \nDANSONS POUR AMÉLIE ! \nGRAND BAL Folk & Country \nBillet d’entrée : 10€ (valable toute la journée) \nInitiations – Démonstrations – Bals\nMusique Live – Buvette\nPlateau repas (12€ sur réservation uniquement) \nSamedi 21 mars de 14h30 à minuit ! \nInfos et réservation sur HELLOASSO ou 06 77 98 40 34 \nFoyer Laurent Bouvier – Salaise sur Sanne
URL:https://mairie-salaise-sur-sanne.com/evenement/grand-bal-folk-country/
LOCATION:Foyer Laurent Bouvier\, Rue Du 11 Novembre 1918\, 38150 Salaise sur Sanne\, France
ATTACH;FMTTYPE=image/png:https://mairie-salaise-sur-sanne.com//wp-content/webpc-passthru.php?src=https://mairie-salaise-sur-sanne.com/wp-content/uploads/2026/02/2026-Affiche-Bal-folk-country-scaled.png&amp;nocache=1
ORGANIZER;CN="Am%C3%A9lie tout schuss":MAILTO:amelie-tout-schuss@orange.fr
END:VEVENT
BEGIN:VEVENT
DTSTART;TZID=UTC:20260321T150000
DTEND;TZID=UTC:20260321T170000
DTSTAMP:20260422T134911
CREATED:20260127T091027Z
LAST-MODIFIED:20260130T101259Z
UID:10903-1774105200-1774112400@mairie-salaise-sur-sanne.com
SUMMARY:Blues and bar : ADY ONE WOMAN BAND
DESCRIPTION:Concert gratuit dans le cadre du Salaise Blues Festival 2026 \n  \nSAMEDI 21 MARS : SHOWCASE AVEC ADY ONE WOMAN BAND À 15H \nAU MAGASIN EVA MUSIQUE \n40 Rue Jonchain N \n38150 Salaise sur Sanne
URL:https://mairie-salaise-sur-sanne.com/evenement/blues-and-bar-ady-one-woman-band/
LOCATION:Eva Musique\, 40 Rue Jonchain Nord\, Salaise sur Sanne\, 38150
CATEGORIES:SalaiseBluesFestival
ATTACH;FMTTYPE=image/jpeg:https://mairie-salaise-sur-sanne.com//wp-content/webpc-passthru.php?src=https://mairie-salaise-sur-sanne.com/wp-content/uploads/2026/01/InstaSBF-20263.jpg&amp;nocache=1
END:VEVENT
BEGIN:VEVENT
DTSTART;TZID=UTC:20260321T170000
DTEND;TZID=UTC:20260321T170000
DTSTAMP:20260422T134911
CREATED:20260127T091245Z
LAST-MODIFIED:20260306T120727Z
UID:10905-1774112400-1774112400@mairie-salaise-sur-sanne.com
SUMMARY:Concert : ouverture du Salaise Blues festival 2026 à la médiathèque
DESCRIPTION:Concert gratuit dans le cadre du Salaise Blues Festival 2026 \n  \nOUVERTURE DU FESTIVAL AVEC ANNA BOULIC (harpe et chant) À 17H ACCUEILLIE PAR LA MÉDIATHÈQUE ELSA TRIOLET \nCe sera également l’occasion de découvrir le travail de l’artiste Grégory Aubert en direct live. \nGrégory Aubert\nÀ travers une peinture figurative nourrie par la tradition du clair-obscur\, il explore la présence humaine dans des situations de tension\, d’élan ou de suspension. \nSes grandes compositions cherchent moins à raconter une scène qu’à capter une intensité : celle d’un moment partagé\, d’un souffle collectif\, d’une vibration. La musique influence le rythme de la touche\, la densité de la matière et la circulation des regards. \nLa peinture devient espace sonore\, lieu de résonance. \nIl utilise l’intelligence artificielle comme outil de recherche compositionnelle — une forme contemporaine de camera obscura — intégrée à un processus pictural entièrement assumé. \nLors de cette ouverture du festival\, il prolonge cette recherche en dessinant en direct\, projetant un geste improvisé en dialogue immédiat avec la musique. \n  \n18 Rue Pierre Avit Nicolas \n38150 Salaise sur Sanne
URL:https://mairie-salaise-sur-sanne.com/evenement/concert-ouverture-du-salaise-blues-festival-2026-a-la-mediatheque/
LOCATION:Médiathèque Elsa Triolet\, 18 Rue Pierre Avit Nicolas\, Salaise sur Sanne\, 38150\, France
CATEGORIES:Médiathèque,SalaiseBluesFestival
ATTACH;FMTTYPE=image/jpeg:https://mairie-salaise-sur-sanne.com//wp-content/webpc-passthru.php?src=https://mairie-salaise-sur-sanne.com/wp-content/uploads/2026/01/InstaSBF-20264.jpg&amp;nocache=1
END:VEVENT
END:VCALENDAR