BEGIN:VCALENDAR
VERSION:2.0
PRODID:-//Mairie Salaise sur Sanne - ECPv6.15.20//NONSGML v1.0//EN
CALSCALE:GREGORIAN
METHOD:PUBLISH
X-WR-CALNAME:Mairie Salaise sur Sanne
X-ORIGINAL-URL:https://mairie-salaise-sur-sanne.com
X-WR-CALDESC:Évènements pour Mairie Salaise sur Sanne
REFRESH-INTERVAL;VALUE=DURATION:PT1H
X-Robots-Tag:noindex
X-PUBLISHED-TTL:PT1H
BEGIN:VTIMEZONE
TZID:UTC
BEGIN:STANDARD
TZOFFSETFROM:+0000
TZOFFSETTO:+0000
TZNAME:UTC
DTSTART:20250101T000000
END:STANDARD
END:VTIMEZONE
BEGIN:VEVENT
DTSTART;TZID=UTC:20260210T090000
DTEND;TZID=UTC:20260210T190000
DTSTAMP:20260422T165230
CREATED:20260115T075056Z
LAST-MODIFIED:20260115T105348Z
UID:10839-1770714000-1770750000@mairie-salaise-sur-sanne.com
SUMMARY:Don du sang
DESCRIPTION:  \nChaque année\, les dons de sang permettent de soigner 1 million de malades. \nChaque jour en Auvergne-Rhône-Alpes\, 1400 dons de sang sont nécessaires pour satisfaire la demande des établissements de santé. \nIl n’existe pas de produit capable de se substituer au sang. C’est parce que les produits sanguins ont une durée de vie limitée et que les besoins sont permanents que vos dons sont si précieux.\nLe don de sang est indispensable à la vie. Plus que jamais nous avons besoin de vous. \n \nVENEZ NOMBREUX ! \n\n  \nOù donner mon sang ? \nROUSSILLON \nSALLE L’ESPACE \nMARDI 10 février 2026 \n9H-12H30 & 15H-19H \n\nSur RDV : https://dondesang.efs.sante.fr/
URL:https://mairie-salaise-sur-sanne.com/evenement/don-du-sang/
LOCATION:Salle l’Espace\, Rue Anatole France\, Roussillon\, 38150
ATTACH;FMTTYPE=image/png:https://mairie-salaise-sur-sanne.com//wp-content/webpc-passthru.php?src=https://mairie-salaise-sur-sanne.com/wp-content/uploads/2022/01/BanniereDonduSang.png&amp;nocache=1
END:VEVENT
BEGIN:VEVENT
DTSTART;TZID=UTC:20260210T103000
DTEND;TZID=UTC:20260210T170000
DTSTAMP:20260422T165230
CREATED:20251125T095156Z
LAST-MODIFIED:20260203T130850Z
UID:10630-1770719400-1770742800@mairie-salaise-sur-sanne.com
SUMMARY:[Complet] Eveil sonore et musical
DESCRIPTION:Cette animation est complète. Merci de votre compréhension. \n  \nCOUCOU pour les 0-3 ans – Médiathèque Elsa Triolet \nAvec Sarah Bel mardi 10 février 10h30 dans le cadre du réseau Ecume \nGratuit sur inscription \n 
URL:https://mairie-salaise-sur-sanne.com/evenement/eveil-sonore-et-musical/
LOCATION:Médiathèque Elsa Triolet\, 18 Rue Pierre Avit Nicolas\, Salaise sur Sanne\, 38150\, France
CATEGORIES:Médiathèque
ATTACH;FMTTYPE=image/jpeg:https://mairie-salaise-sur-sanne.com//wp-content/webpc-passthru.php?src=https://mairie-salaise-sur-sanne.com/wp-content/uploads/2024/11/eveil-sonore-et-musical-avec-sarah-bel_27508881.jpg&amp;nocache=1
END:VEVENT
BEGIN:VEVENT
DTSTART;TZID=UTC:20260210T163000
DTEND;TZID=UTC:20260210T170000
DTSTAMP:20260422T165230
CREATED:20260129T130205Z
LAST-MODIFIED:20260130T093059Z
UID:10935-1770741000-1770742800@mairie-salaise-sur-sanne.com
SUMMARY:Lecture de Kamishibaï à la médiathèque Elsa Triolet.
DESCRIPTION:Venez écouter ces histoires\, sorties d’un petit théâtre de papier. \nMardi 10 février à 16h30 \nVendredi 20 février à 15h00 \nPour petites et grandes oreilles dès 3 ans. \nDurée 30 minutes. \nSans inscription. \nGratuit.
URL:https://mairie-salaise-sur-sanne.com/evenement/lecture-de-kamishibai-a-la-mediatheque-elsa-triolet/
LOCATION:Médiathèque Elsa Triolet\, 18 Rue Pierre Avit Nicolas\, Salaise sur Sanne\, 38150\, France
CATEGORIES:Médiathèque
ATTACH;FMTTYPE=image/jpeg:https://mairie-salaise-sur-sanne.com//wp-content/webpc-passthru.php?src=https://mairie-salaise-sur-sanne.com/wp-content/uploads/2026/01/Insta-LectureKamishibai.jpg&amp;nocache=1
END:VEVENT
END:VCALENDAR